BEGIN:VCALENDAR
VERSION:2.0
PRODID:-//Breaker Brewing Company - Brewing Unique and Unusual Beers - ECPv6.15.20//NONSGML v1.0//EN
CALSCALE:GREGORIAN
METHOD:PUBLISH
X-WR-CALNAME:Breaker Brewing Company - Brewing Unique and Unusual Beers
X-ORIGINAL-URL:https://www.breakerbrewingcompany.com
X-WR-CALDESC:Events for Breaker Brewing Company - Brewing Unique and Unusual Beers
REFRESH-INTERVAL;VALUE=DURATION:PT1H
X-Robots-Tag:noindex
X-PUBLISHED-TTL:PT1H
BEGIN:VTIMEZONE
TZID:America/New_York
BEGIN:DAYLIGHT
TZOFFSETFROM:-0500
TZOFFSETTO:-0400
TZNAME:EDT
DTSTART:20230312T070000
END:DAYLIGHT
BEGIN:STANDARD
TZOFFSETFROM:-0400
TZOFFSETTO:-0500
TZNAME:EST
DTSTART:20231105T060000
END:STANDARD
BEGIN:DAYLIGHT
TZOFFSETFROM:-0500
TZOFFSETTO:-0400
TZNAME:EDT
DTSTART:20240310T070000
END:DAYLIGHT
BEGIN:STANDARD
TZOFFSETFROM:-0400
TZOFFSETTO:-0500
TZNAME:EST
DTSTART:20241103T060000
END:STANDARD
BEGIN:DAYLIGHT
TZOFFSETFROM:-0500
TZOFFSETTO:-0400
TZNAME:EDT
DTSTART:20250309T070000
END:DAYLIGHT
BEGIN:STANDARD
TZOFFSETFROM:-0400
TZOFFSETTO:-0500
TZNAME:EST
DTSTART:20251102T060000
END:STANDARD
END:VTIMEZONE
BEGIN:VEVENT
DTSTART;TZID=America/New_York:20240305T183000
DTEND;TZID=America/New_York:20240305T203000
DTSTAMP:20260419T115813
CREATED:20240219T001019Z
LAST-MODIFIED:20240301T185213Z
UID:33384-1709663400-1709670600@www.breakerbrewingcompany.com
SUMMARY:SEINFELD Trivia Night at Breaker Brewing Company!
DESCRIPTION:Tuesday\, March 5th\, 6:30pm\nBreaker Brewing Company\n787 E. Northampton St.\nWilkes-Barre Twp.\, PA \nJoin us for a fun night of great prizes and giveaways!\nWe’ll have four rounds of trivia plus a fun handout round. \nTrivia registration begins at 6pm.\nRecommended team size is one to eight players.\nNo more than eight players per team.\nBRING YOUR OWN PEN FOR A BONUS POINT! \nThe top three teams make it to the final round for a chance at top prize of a $25 Breaker Brewing Company gift card. \n***family friendly\n***free to play with purchase of food and drink\n***please arrive by 6:15pm to register and secure your table \n***RESERVATIONS are REQUIRED for events through OpenTable at https://www.opentable.com/r/breaker-brewing-company-wilkes-barre or give us a call at (570) 392-9078 and make sure to select the Wilkes-Barre location. Please mention you’re coming for trivia. \nHow to Make a Reservation on OpenTable:\n-visit OpenTable at https://www.opentable.com/r/breaker-brewing-company-wilkes-barre\n-under “make a reservation” select your party size\, date and time\n-enter your name\, phone number and email address\n-write “trivia” in the “add a special request” field\n-sign up for text updates\n-click the “complete reservation” button \nCheck out the Breaker Brewing Company food and drink menu for offerings to enjoy during your visit. \nBreaker Brewing Company Menu
URL:https://www.breakerbrewingcompany.com/event/seinfeld-trivia-night-at-breaker-brewing-company/
LOCATION:Breaker Brewing Company\, Wilkes-Barre Twp
CATEGORIES:Events at Brewery in Wilkes-Barre
END:VEVENT
BEGIN:VEVENT
DTSTART;TZID=America/New_York:20240306T183000
DTEND;TZID=America/New_York:20240306T203000
DTSTAMP:20260419T115813
CREATED:20240201T060740Z
LAST-MODIFIED:20240219T003054Z
UID:33342-1709749800-1709757000@www.breakerbrewingcompany.com
SUMMARY:Breaker BINGO
DESCRIPTION:Breaker BINGO \nEvery Wednesday is for winners at Breaker with our favorite game B I N G O! The balls roll at 6:30pm with your host Bingo Joe 570 calling the numbers. Giveaways with every single game and a $25 grand prize gift card that can be used at either of our locations. \n***family friendly\n***free to play with purchase of food and beverage \nBingo starts at 6:30pm. Reservations are available online through OpenTable or give us a call ☎️ at (570) 392-9078 and make sure to select the Wilkes-Barre location. Let us know you’re playing Bingo and we’ll reserve your table accordingly. \nHow to Make a Reservation on OpenTable:\n-visit OpenTable at https://www.opentable.com/r/breaker-brewing-company-wilkes-barre\n-under “make a reservation” select your party size\, date and time\n-enter your name\, phone number and email address\n-write “bingo” in the “add a special request” field\n-sign up for text updates\n-click the “complete reservation” button \nCheck out the Breaker Brewing Company food and drink menu for offerings to enjoy during your visit. \nBreaker Brewing Company Menu
URL:https://www.breakerbrewingcompany.com/event/breaker-bingo-7/
LOCATION:Breaker Brewing Company\, Wilkes-Barre Twp
CATEGORIES:Events at Brewery in Wilkes-Barre
ATTACH;FMTTYPE=image/jpeg:https://www.breakerbrewingcompany.com/wp-content/uploads/2024/01/415914600_768018615356719_6565042763559302441_n.jpg
END:VEVENT
BEGIN:VEVENT
DTSTART;TZID=America/New_York:20240313T183000
DTEND;TZID=America/New_York:20240313T203000
DTSTAMP:20260419T115813
CREATED:20240201T061315Z
LAST-MODIFIED:20240201T061315Z
UID:33345-1710354600-1710361800@www.breakerbrewingcompany.com
SUMMARY:Breaker BINGO
DESCRIPTION:Breaker BINGO ⚪️ \nEvery Wednesday is for winners at Breaker with our favorite game B I N G O! The balls roll at 6:30pm with your host Bingo Joe 570 calling the numbers. Giveaways with every single game and a $25 grand prize gift card that can be used at either of our locations. \n***family friendly\n***free to play with purchase of food and beverage \nBingo starts at 6:30pm. Reservations are available online through OpenTable or give us a call ☎️ at (570) 392-9078 and make sure to select the Wilkes-Barre location. Let us know you’re playing Bingo and we’ll reserve your table accordingly. \nHow to Make a Reservation on OpenTable:\n-visit OpenTable at https://www.opentable.com/r/breaker-brewing-company-wilkes-barre\n-under “make a reservation” select your party size\, date and time\n-enter your name\, phone number and email address\n-write “bingo” in the “add a special request” field\n-sign up for text updates\n-click the “complete reservation” button \nCheck out the Breaker Brewing Company food and drink menu for offerings to enjoy during your visit. \nBreaker Brewing Company Menu
URL:https://www.breakerbrewingcompany.com/event/breaker-bingo-8/
LOCATION:Breaker Brewing Company\, Wilkes-Barre Twp
CATEGORIES:Events at Brewery in Wilkes-Barre
END:VEVENT
BEGIN:VEVENT
DTSTART;TZID=America/New_York:20240316T120000
DTEND;TZID=America/New_York:20240316T210000
DTSTAMP:20260419T115813
CREATED:20240226T014529Z
LAST-MODIFIED:20240314T134611Z
UID:33412-1710590400-1710622800@www.breakerbrewingcompany.com
SUMMARY:☘️ St. Paddy's Party at Breaker ☘️
DESCRIPTION:☘️Everyone’s Irish for Saint Patrick’s Day! ☘️ \nDon’t miss our Saint Paddy’s Party\, Saturday\, March 16th\, as we welcome back the incredible bagpipers of the Ceol Mor Pipe & Drum Band followed by Irish music trio Don Shappelle & The Pick-Ups. \nWe’ll also have delicious Irish food specials\, a very special firkin\, plus beer and drink specials. \nOpen 12-10pm\nFirkin tapping\, 12pm\nCeol Mor Pipe & Drum Band\, 4pm\nDon Shappelle & The Pick-Ups 6-9pm \n***no cover \n***family friendly \n***free with purchase of food and beverage \n☘️☘️☘️☘️☘️☘️☘️☘️☘️☘️☘️☘️☘️☘️☘️☘️☘️☘️☘️☘️ \nReservations are available through OpenTable at https://www.opentable.com/r/breaker-brewing-company-wilkes-barre or give us a call at (570) 392-9078 and make sure to select the Wilkes-Barre location. \nHow to Make a Reservation on OpenTable:\n-visit OpenTable at https://www.opentable.com/r/breaker-brewing-company-wilkes-barre\n-under “make a reservation” select your party size\, date and time\n-enter your name\, phone number and email address\n-sign up for text updates\n-click the “complete reservation” button
URL:https://www.breakerbrewingcompany.com/event/%e2%98%98%ef%b8%8f-st-pattys-party-at-breaker-%e2%98%98%ef%b8%8f/
LOCATION:Breaker Brewing Company\, Wilkes-Barre Twp
CATEGORIES:Events at Brewery in Wilkes-Barre
END:VEVENT
BEGIN:VEVENT
DTSTART;TZID=America/New_York:20240319T183000
DTEND;TZID=America/New_York:20240319T203000
DTSTAMP:20260419T115813
CREATED:20240301T185447Z
LAST-MODIFIED:20240301T185447Z
UID:33417-1710873000-1710880200@www.breakerbrewingcompany.com
SUMMARY:90's MOVIES Trivia Night
DESCRIPTION:90’s Movie Trivia Night! \nTuesday\, March 19th\, 6:30pm\nBreaker Brewing Company\n787 E. Northampton St.\nWilkes-Barre Twp.\, PA \nJoin us for a fun night of great prizes and giveaways!\nWe’ll have four rounds of trivia plus a fun handout round. \nTrivia registration begins at 6pm.\nRecommended team size is one to eight players.\nNo more than eight players per team.\nBRING YOUR OWN PEN FOR A BONUS POINT! \nThe top three teams make it to the final round for a chance at top prize of a $25 Breaker Brewing Company gift card. \n***family friendly\n***free to play with purchase of food and drink\n***please arrive by 6:15pm to register and secure your table \n***RESERVATIONS are REQUIRED for events through OpenTable at https://www.opentable.com/r/breaker-brewing-company-wilkes-barre or give us a call at (570) 392-9078 and make sure to select the Wilkes-Barre location. Please mention you’re coming for trivia. \nHow to Make a Reservation on OpenTable:\n-visit OpenTable at  https://www.opentable.com/r/breaker-brewing-company-wilkes-barre\n-under “make a reservation” select your party size\, date and time\n-enter your name\, phone number and email address\n-write “trivia” in the “add a special request” field\n-sign up for text updates\n-click the “complete reservation” button \nCheck out the Breaker Brewing Company food and drink menu for offerings to enjoy during your visit. \nBreaker Brewing Company Menu
URL:https://www.breakerbrewingcompany.com/event/90s-movies-trivia-night/
LOCATION:Breaker Brewing Company\, Wilkes-Barre Twp
CATEGORIES:Events at Brewery in Wilkes-Barre
END:VEVENT
BEGIN:VEVENT
DTSTART;TZID=America/New_York:20240320T170000
DTEND;TZID=America/New_York:20240320T190000
DTSTAMP:20260419T115813
CREATED:20240316T234740Z
LAST-MODIFIED:20240316T234740Z
UID:33466-1710954000-1710961200@www.breakerbrewingcompany.com
SUMMARY:St. Joseph's Day Wrap Party Fundraiser!!!
DESCRIPTION:Join us Wednesday\, March 20th\, from 5-7pm\, as we wrap up the Diocese of Scranton’s “Rectory\, Set\, Cook!” fundraiser with a St. Joseph’s Day themed party at Breaker Brewing Company in Wilkes-Barre Township\, which is in the former St. Joseph’s Monastery!!! \nWe’ll celebrate St. Joseph’s Day (one day late – but on the day traditionally set aside to honor this great saint (Wednesday) as we also honor the revered religious history behind Breaker Brewing Company and encourage voting for your favorite pastor chef/team with less than a week to go in the competition! \nWe’ll also pull our “Rectory\, Set\, Cook!” foodie basket raffle winners. If present\, winners may take baskets home immediately. \nLastly\, we’ll kick the keg together as we pour the last of our first-ever “Rectory\, Set\, Cook!” collaboration limited-edition beer release\, Forty Days Doppelbock. Every time you drink this beer and purchase a four-pack to go\, you help fight hunger and homelessness in your local community. \nThe wrap party fundraiser is open to the public who are encouraged to attend. Admission is a $20 donation per person\, which includes admission to the fundraiser\, your first draft beer\, plus a food buffet including traditional pizza and white/spinach pizza (in honor of the first greens of spring and the Italian celebration of St. Joseph’s Day)\, haluski (in honor of St. Joseph’s Day’s ties to Poland and one of NEPA’s favorite Lenten foods)\, veggie & dip trays\, meat & cracker trays\, and an assortment of colorful St. Joseph’s Day desserts. \nFor each $20 ticket purchased\, $10 will be returned to the Diocese of Scranton in support of “Rectory\, Set\, Cook!” and this year’s pastor chefs. \nWeather permitting\, this party will take place on the patio. If inclement or cold weather is expected\, the party will be inside the brewery\, the same location as the “Rectory\, Set\, Cook!” launch party. \nPlease  purchase tickets in advance via ticket link listed below. \n https://bit.ly/RectorySetCook2024WrapParty \n***If you must pay cash at the door\, you must email Sandra Snyder\, Director of Foundation Relations and Special Events of the Diocese of Scranton\, directly with your name\, phone number and ticket quantity no later than March 18th at ssnyder@dioceseofscranton.org to reserve your cash at the door ticket.***
URL:https://www.breakerbrewingcompany.com/event/st-josephs-day-wrap-party-fundraiser/
LOCATION:Breaker Brewing Company\, Wilkes-Barre Twp
CATEGORIES:Events at Brewery in Wilkes-Barre
END:VEVENT
BEGIN:VEVENT
DTSTART;TZID=America/New_York:20240320T183000
DTEND;TZID=America/New_York:20240320T203000
DTSTAMP:20260419T115813
CREATED:20240201T061446Z
LAST-MODIFIED:20240219T003129Z
UID:33348-1710959400-1710966600@www.breakerbrewingcompany.com
SUMMARY:Breaker BINGO
DESCRIPTION:Breaker BINGO \nEvery Wednesday is for winners at Breaker with our favorite game B I N G O! The balls roll at 6:30pm with your host Bingo Joe 570 calling the numbers. Giveaways with every single game and a $25 grand prize gift card that can be used at either of our locations. \n***family friendly\n***free to play with purchase of food and beverage \nBingo starts at 6:30pm. Reservations are available online through OpenTable or give us a call ☎️ at (570) 392-9078 and make sure to select the Wilkes-Barre location. Let us know you’re playing Bingo and we’ll reserve your table accordingly. \nHow to Make a Reservation on OpenTable:\n-visit OpenTable at https://www.opentable.com/r/breaker-brewing-company-wilkes-barre\n-under “make a reservation” select your party size\, date and time\n-enter your name\, phone number and email address\n-write “bingo” in the “add a special request” field\n-sign up for text updates\n-click the “complete reservation” button \nCheck out the Breaker Brewing Company food and drink menu for offerings to enjoy during your visit. \nBreaker Brewing Company Menu
URL:https://www.breakerbrewingcompany.com/event/breaker-bingo-9/
LOCATION:Breaker Brewing Company\, Wilkes-Barre Twp
CATEGORIES:Events at Brewery in Wilkes-Barre
END:VEVENT
BEGIN:VEVENT
DTSTART;TZID=America/New_York:20240321T170000
DTEND;TZID=America/New_York:20240321T210000
DTSTAMP:20260419T115813
CREATED:20240201T061955Z
LAST-MODIFIED:20240201T061955Z
UID:33352-1711040400-1711054800@www.breakerbrewingcompany.com
SUMMARY:Breaker Game Night
DESCRIPTION:Breaker Game Night ♟️ \nJoin us the third Thursday of every month as we break out the board games from 5-9pm for GAME NIGHT! \nGrab some grub and a few pints while you play all your favorite board games with old friends and new friends in our designated gaming area. We’ll have lots of games to choose from\, but feel free to bring your favorites. \n***family friendly\n***free to play with purchase of food and beverage \nGame Night starts at 5pm. Reservations are available online through OpenTable or give us a call ☎️ at (570) 392-9078 and make sure to select the Wilkes-Barre location. Let us know you’re participating in Game Night and we’ll reserve your table accordingly. \nHow to Make a Reservation on OpenTable:\n-visit OpenTable at  https://www.opentable.com/r/breaker-brewing-company-wilkes-barre\n-under “make a reservation” select your party size\, date and time\n-enter your name\, phone number and email address\n-write “game night” in the “add a special request” field\n-sign up for text updates\n-click the “complete reservation” button \nCheck out the Breaker Brewing Company food and drink menu for offerings to enjoy during your visit. \nBreaker Brewing Company Menu
URL:https://www.breakerbrewingcompany.com/event/breaker-game-night-4/
LOCATION:Breaker Brewing Company\, Wilkes-Barre Twp
CATEGORIES:Events at Brewery in Wilkes-Barre
END:VEVENT
BEGIN:VEVENT
DTSTART;TZID=America/New_York:20240321T180000
DTEND;TZID=America/New_York:20240321T200000
DTSTAMP:20260419T115813
CREATED:20240202T202822Z
LAST-MODIFIED:20240202T202822Z
UID:33376-1711044000-1711051200@www.breakerbrewingcompany.com
SUMMARY:Pysanky Egg Decorating Workshop
DESCRIPTION:Ukrainian Pysanky Egg Decorating Workshop\, Thursday\, March 21st\, 6-8pm\, is a beginner class which will guide you in making your very own egg. \nThis two hour beginner class teaches you how to create your own decorated egg using beeswax\, dyes and a writing tool called a kistka. We provide step-by-step instructions while you learn about this beautiful Ukrainian tradition. All supplies are included and yours to keep along with your completed egg. \nThere will also be pysanky eggs for sale\, as well as additional supplies\, jewelry and mosaic art pieces created with broken egg shells. \nCost is $40 and includes all of the above mentioned\, plus your first draft beer\, wine or soda. \n***Payment is cash only on the day of the event.*** \nPlease email instructor Tammy Budnovitch at tammybud@echoes.net with your full name\, phone number and how many people are attending to reserve your spot. \nClass is limited to 20 people\, so secure your spot. \nCheck out the Breaker Brewing Company food and drink menu for offerings to enjoy during your visit. \nBreaker Brewing Company Menu
URL:https://www.breakerbrewingcompany.com/event/pysanky-egg-decorating-workshop/
LOCATION:Breaker Brewing Company\, Wilkes-Barre Twp
CATEGORIES:Events at Brewery in Wilkes-Barre
END:VEVENT
BEGIN:VEVENT
DTSTART;TZID=America/New_York:20240327T183000
DTEND;TZID=America/New_York:20240327T203000
DTSTAMP:20260419T115813
CREATED:20240201T061616Z
LAST-MODIFIED:20240219T003109Z
UID:33350-1711564200-1711571400@www.breakerbrewingcompany.com
SUMMARY:Breaker BINGO
DESCRIPTION:Breaker BINGO \nEvery Wednesday is for winners at Breaker with our favorite game B I N G O! The balls roll at 6:30pm with your host Bingo Joe 570 calling the numbers. Giveaways with every single game and a $25 grand prize gift card that can be used at either of our locations. \n***family friendly\n***free to play with purchase of food and beverage \nBingo starts at 6:30pm. Reservations are available online through OpenTable or give us a call ☎️ at (570) 392-9078 and make sure to select the Wilkes-Barre location. Let us know you’re playing Bingo and we’ll reserve your table accordingly. \nHow to Make a Reservation on OpenTable:\n-visit OpenTable at https://www.opentable.com/r/breaker-brewing-company-wilkes-barre\n-under “make a reservation” select your party size\, date and time\n-enter your name\, phone number and email address\n-write “bingo” in the “add a special request” field\n-sign up for text updates\n-click the “complete reservation” button \nCheck out the Breaker Brewing Company food and drink menu for offerings to enjoy during your visit. \nBreaker Brewing Company Menu
URL:https://www.breakerbrewingcompany.com/event/breaker-bingo-10/
LOCATION:Breaker Brewing Company\, Wilkes-Barre Twp
CATEGORIES:Events at Brewery in Wilkes-Barre
ATTACH;FMTTYPE=image/jpeg:https://www.breakerbrewingcompany.com/wp-content/uploads/2023/08/IMG_8228-scaled.jpg
END:VEVENT
BEGIN:VEVENT
DTSTART;TZID=America/New_York:20240328T183000
DTEND;TZID=America/New_York:20240328T203000
DTSTAMP:20260419T115813
CREATED:20240316T235012Z
LAST-MODIFIED:20240316T235012Z
UID:33470-1711650600-1711657800@www.breakerbrewingcompany.com
SUMMARY:Metal Name That Tune at Breaker Brewing Company!
DESCRIPTION:Metal Name that Tune! \nThursday\, March 28th\, 6:30\nBreaker Brewing Company\n787 E. Northampton St.\nWilkes-Barre TWP PA \n***family friendly\n***free to play with purchase of food and beverage \n*Due to popular demand\, RESERVATIONS are REQUIRED and can be made by calling Breaker directly at (570)392-9078!\nPlease mention you’re coming for the trivia!\nOR you can go ONLINE to:\nhttps://www.opentable.com/r/breaker-brewing-company-wilkes-barre\n*If making a reservation via OpenTable\, click on the ‘standard’ table and then write ‘trivia’ in the special request box. \nGREAT PRIZES and GIVEAWAYS!\n4 Rounds of Trivia and Name That Tune plus a fun handout round!\nTop teams make it to the final round for your chance at top prize of a Breaker gift card!\nTrivia registration begins at 6:00!\nRecommended TEAM SIZE is 4 players!\nPlease No more than 8!\nWe will start once everyone is signed up\, and trivia will last no later than 9pm! \nBRING YOUR OWN PEN FOR A BONUS POINT!!! \nBreaker Brewing is known for its delicious local craft beverages and fantastic pub style fare!\nSee you then!?\nCall now for a reservation!\n570-392-9078 \n*please arrive by 6:15pm to secure your table* \nCheck out the Breaker Brewing Company food and drink menu for offerings to enjoy during your visit. \nBreaker Brewing Company Menu
URL:https://www.breakerbrewingcompany.com/event/metal-name-that-tune-at-breaker-brewing-company/
LOCATION:Breaker Brewing Company\, Wilkes-Barre Twp
CATEGORIES:Events at Brewery in Wilkes-Barre
END:VEVENT
END:VCALENDAR