BEGIN:VCALENDAR
VERSION:2.0
PRODID:-//Breaker Brewing Company - Brewing Unique and Unusual Beers - ECPv6.15.20//NONSGML v1.0//EN
CALSCALE:GREGORIAN
METHOD:PUBLISH
X-WR-CALNAME:Breaker Brewing Company - Brewing Unique and Unusual Beers
X-ORIGINAL-URL:https://www.breakerbrewingcompany.com
X-WR-CALDESC:Events for Breaker Brewing Company - Brewing Unique and Unusual Beers
REFRESH-INTERVAL;VALUE=DURATION:PT1H
X-Robots-Tag:noindex
X-PUBLISHED-TTL:PT1H
BEGIN:VTIMEZONE
TZID:America/New_York
BEGIN:DAYLIGHT
TZOFFSETFROM:-0500
TZOFFSETTO:-0400
TZNAME:EDT
DTSTART:20230312T070000
END:DAYLIGHT
BEGIN:STANDARD
TZOFFSETFROM:-0400
TZOFFSETTO:-0500
TZNAME:EST
DTSTART:20231105T060000
END:STANDARD
BEGIN:DAYLIGHT
TZOFFSETFROM:-0500
TZOFFSETTO:-0400
TZNAME:EDT
DTSTART:20240310T070000
END:DAYLIGHT
BEGIN:STANDARD
TZOFFSETFROM:-0400
TZOFFSETTO:-0500
TZNAME:EST
DTSTART:20241103T060000
END:STANDARD
BEGIN:DAYLIGHT
TZOFFSETFROM:-0500
TZOFFSETTO:-0400
TZNAME:EDT
DTSTART:20250309T070000
END:DAYLIGHT
BEGIN:STANDARD
TZOFFSETFROM:-0400
TZOFFSETTO:-0500
TZNAME:EST
DTSTART:20251102T060000
END:STANDARD
END:VTIMEZONE
BEGIN:VEVENT
DTSTART;TZID=America/New_York:20240702T183000
DTEND;TZID=America/New_York:20240702T203000
DTSTAMP:20260419T115815
CREATED:20240615T222254Z
LAST-MODIFIED:20240615T222254Z
UID:33689-1719945000-1719952200@www.breakerbrewingcompany.com
SUMMARY:80’s Trivia Night at Breaker Brewing Company!
DESCRIPTION:80’s Trivia Night! \nTuesday\, July 2nd\, 6:30pm\nBreaker Brewing Company\n787 E. Northampton St.\nWilkes-Barre Twp.\, PA \nJoin us for a fun night of great prizes and giveaways!\nWe’ll have four rounds of trivia plus a fun handout round. \nTrivia registration begins at 6pm.\nRecommended team size is one to eight players.\nNo more than eight players per team.\nBRING YOUR OWN PEN FOR A BONUS POINT! \nThe top three teams make it to the final round for a chance at top prize of a $25 Breaker Brewing Company gift card. \n***family friendly\n***free to play with purchase of food and drink\n***please arrive by 6:15pm to register and secure your table \n***RESERVATIONS are REQUIRED for events through OpenTable at https://www.opentable.com/r/breaker-brewing-company-wilkes-barre or give us a call at (570) 392-9078 and make sure to select the Wilkes-Barre location. Please mention you’re coming for trivia. \nHow to Make a Reservation on OpenTable:\n-visit OpenTable at  https://www.opentable.com/r/breaker-brewing-company-wilkes-barre\n-under “make a reservation” select your party size\, date and time\n-enter your name\, phone number and email address\n-write “trivia” in the “add a special request” field\n-sign up for text updates\n-click the “complete reservation” button \nCheck out the Breaker Brewing Company food and drink menu for offerings to enjoy during your visit. \nBreaker Brewing Company Menu \n \nCheers!
URL:https://www.breakerbrewingcompany.com/event/80s-trivia-night-at-breaker-brewing-company/
LOCATION:Breaker Brewing Company\, Wilkes-Barre Twp
CATEGORIES:Events at Brewery in Wilkes-Barre
END:VEVENT
BEGIN:VEVENT
DTSTART;TZID=America/New_York:20240703T183000
DTEND;TZID=America/New_York:20240703T203000
DTSTAMP:20260419T115815
CREATED:20240615T222850Z
LAST-MODIFIED:20240615T222850Z
UID:33692-1720031400-1720038600@www.breakerbrewingcompany.com
SUMMARY:Breaker BINGO
DESCRIPTION:Breaker BINGO   ⚪️   \nEvery Wednesday is for winners at Breaker with our favorite game B I N G O! The balls roll at 6:30pm with your host Bingo Joe 570 calling the numbers. Giveaways with every single game and a $25 grand prize gift card that can be used at either of our locations. \n***family friendly\n***free to play with purchase of food and beverage \nBingo starts at 6:30pm. Reservations are available online through OpenTable or give us a call ☎️ at (570) 392-9078 and make sure to select the Wilkes-Barre location. Let us know you’re playing Bingo and we’ll reserve your table accordingly. \nHow to Make a Reservation on OpenTable:\n-visit OpenTable at  https://www.opentable.com/r/breaker-brewing-company-wilkes-barre\n-under “make a reservation” select your party size\, date and time\n-enter your name\, phone number and email address\n-write “bingo” in the “add a special request” field\n-sign up for text updates\n-click the “complete reservation” button \nCheck out the Breaker Brewing Company food and drink menu for offerings to enjoy during your visit. \nBreaker Brewing Company Menu
URL:https://www.breakerbrewingcompany.com/event/breaker-bingo-21/
LOCATION:Breaker Brewing Company\, Wilkes-Barre Twp
CATEGORIES:Events at Brewery in Wilkes-Barre
ATTACH;FMTTYPE=image/jpeg:https://www.breakerbrewingcompany.com/wp-content/uploads/2024/01/415914600_768018615356719_6565042763559302441_n.jpg
END:VEVENT
BEGIN:VEVENT
DTSTART;TZID=America/New_York:20240706T170000
DTEND;TZID=America/New_York:20240706T200000
DTSTAMP:20260419T115815
CREATED:20240529T024901Z
LAST-MODIFIED:20240529T024901Z
UID:33644-1720285200-1720296000@www.breakerbrewingcompany.com
SUMMARY:Chae plays the patio
DESCRIPTION:Join us as we welcome back Chae to play the patio from 5-8pm at Breaker Brewing Company in Wilkes-Barre Township. \n***no cover\n***family friendly\n***free with purchase of food and beverage \n*Live music will be on the patio. In the event of inclement weather\, live music will move inside* \nReservations are available through OpenTable at https://www.opentable.com/r/breaker-brewing-company-wilkes-barre or give us a call at (570) 392-9078 and make sure to select the Wilkes-Barre location. \nTag your reservation with “close to live music” and we’ll reserve your table accordingly 🙂
URL:https://www.breakerbrewingcompany.com/event/chae-plays-the-patio-2/
LOCATION:Breaker Brewing Company\, Wilkes-Barre Twp
CATEGORIES:Events at Brewery in Wilkes-Barre
END:VEVENT
BEGIN:VEVENT
DTSTART;TZID=America/New_York:20240713T170000
DTEND;TZID=America/New_York:20240713T200000
DTSTAMP:20260419T115815
CREATED:20240529T025251Z
LAST-MODIFIED:20240529T025251Z
UID:33648-1720890000-1720900800@www.breakerbrewingcompany.com
SUMMARY:Just Joe plays the patio
DESCRIPTION:Join us\, as we welcome back Just Joe to play the patio from 5-8pm at Breaker Brewing Company in Wilkes-Barre Township. \n***no cover\n***family friendly\n***free with purchase of food and beverage \n*Live music will be on the patio. In the event of inclement weather\, live music will move inside* \nReservations are available through OpenTable at https://www.opentable.com/r/breaker-brewing-company-wilkes-barre or give us a call at (570) 392-9078 and make sure to select the Wilkes-Barre location. \nTag your reservation with “close to live music” and we’ll reserve your table accordingly 🙂
URL:https://www.breakerbrewingcompany.com/event/just-joe-plays-the-patio-2/
LOCATION:Breaker Brewing Company\, Wilkes-Barre Twp
CATEGORIES:Events at Brewery in Wilkes-Barre
ATTACH;FMTTYPE=image/jpeg:https://www.breakerbrewingcompany.com/wp-content/uploads/2023/08/364108698_674570508034864_810657889767871877_n.jpg
END:VEVENT
BEGIN:VEVENT
DTSTART;TZID=America/New_York:20240720T170000
DTEND;TZID=America/New_York:20240720T200000
DTSTAMP:20260419T115815
CREATED:20240720T212509Z
LAST-MODIFIED:20240720T212509Z
UID:33794-1721494800-1721505600@www.breakerbrewingcompany.com
SUMMARY:Bradley Phillip Parks plays the patio
DESCRIPTION:Join us\, Saturday\, July 20th\, as we welcome back Bradley Phillip Parks to play the patio from 5-8pm at Breaker Brewing Company in Wilkes-Barre Township. \n***no cover\n***family friendly\n***free with purchase of food and beverage \n*Live music will be on the patio. In the event of inclement weather\, live music will move inside* \nReservations are available through OpenTable at https://www.opentable.com/r/breaker-brewing-company-wilkes-barre or give us a call at (570) 392-9078 and make sure to select the Wilkes-Barre location. \nTag your reservation with “close to live music” and we’ll reserve your table accordingly 🙂
URL:https://www.breakerbrewingcompany.com/event/bradley-phillip-parks-plays-the-patio-2/
LOCATION:Breaker Brewing Company\, Wilkes-Barre Twp
CATEGORIES:Events at Brewery in Wilkes-Barre
END:VEVENT
BEGIN:VEVENT
DTSTART;TZID=America/New_York:20240721T110000
DTEND;TZID=America/New_York:20240721T130000
DTSTAMP:20260419T115815
CREATED:20240720T212948Z
LAST-MODIFIED:20240720T212948Z
UID:33797-1721559600-1721566800@www.breakerbrewingcompany.com
SUMMARY:Pints & Poses: Yoga on the patio
DESCRIPTION:Join us for a one hour yoga flow class on the patio at Breaker Brewing Company. All levels are welcome for this fun yoga class. \nYour first beer\, wine\, or soda is included in the cost of the event. \nCost is $18 per person. Please RSVP to Lisa with your name\, phone number\, payment method and total attendees at lisagalico@gmail.com. Cash at door\, Venmo\, and PayPal are all accepted. \nVenmo: @Lisa-Galico\nPayPal: lisagalico@gmail.com \nCheck out the Breaker Brewing Company food and drink menu for offerings to enjoy during your visit. You are welcome and encouraged to grab a bite and some drinks after class. The kitchen opens at 12pm. \nBreaker Brewing Company Menu \n \nMore details:\n*Please bring your own mat\n*In the case of inclement weather\, high winds\, etc.\, yoga will be moved to inside our brewery\n*Ticket price includes one free beer\, wine or soda. All additional drinks and food are pay on your own. \n 
URL:https://www.breakerbrewingcompany.com/event/pints-poses-yoga-on-the-patio/
LOCATION:Breaker Brewing Company\, Wilkes-Barre Twp
CATEGORIES:Events at Brewery in Wilkes-Barre
END:VEVENT
BEGIN:VEVENT
DTSTART;TZID=America/New_York:20240724T183000
DTEND;TZID=America/New_York:20240724T203000
DTSTAMP:20260419T115815
CREATED:20240720T213124Z
LAST-MODIFIED:20240720T213124Z
UID:33801-1721845800-1721853000@www.breakerbrewingcompany.com
SUMMARY:Breaker BINGO   ⚪️
DESCRIPTION:Breaker BINGO   ⚪️   \nEvery Wednesday is for winners at Breaker with our favorite game B I N G O! The balls roll at 6:30pm with your host Bingo Joe 570 calling the numbers. Giveaways with every single game and a $25 grand prize gift card that can be used at either of our locations. \n***family friendly\n***free to play with purchase of food and beverage \nBingo starts at 6:30pm. Reservations are available online through OpenTable or give us a call ☎️ at (570) 392-9078 and make sure to select the Wilkes-Barre location. Let us know you’re playing Bingo and we’ll reserve your table accordingly. \nHow to Make a Reservation on OpenTable:\n-visit OpenTable at  https://www.opentable.com/r/breaker-brewing-company-wilkes-barre\n-under “make a reservation” select your party size\, date and time\n-enter your name\, phone number and email address\n-write “bingo” in the “add a special request” field\n-sign up for text updates\n-click the “complete reservation” button \nCheck out the Breaker Brewing Company food and drink menu for offerings to enjoy during your visit. \nBreaker Brewing Company Menu
URL:https://www.breakerbrewingcompany.com/event/breaker-bingo-%e2%9a%aa%ef%b8%8f-2/
LOCATION:Breaker Brewing Company\, Wilkes-Barre Twp
CATEGORIES:Events at Brewery in Wilkes-Barre
ATTACH;FMTTYPE=image/jpeg:https://www.breakerbrewingcompany.com/wp-content/uploads/2024/01/415914600_768018615356719_6565042763559302441_n.jpg
END:VEVENT
BEGIN:VEVENT
DTSTART;TZID=America/New_York:20240725T183000
DTEND;TZID=America/New_York:20240725T203000
DTSTAMP:20260419T115815
CREATED:20240720T214048Z
LAST-MODIFIED:20240720T214048Z
UID:33806-1721932200-1721939400@www.breakerbrewingcompany.com
SUMMARY:90’s Name That Tune at Breaker Brewing Company!
DESCRIPTION:90’s Name that Tune! \nThursday\, July 25th\, 6:30\nBreaker Brewing Company\n787 E. Northampton St.\nWilkes-Barre TWP PA \n***family friendly\n***free to play with purchase of food and beverage \n*Due to popular demand\, RESERVATIONS are REQUIRED and can be made by calling Breaker directly at (570)392-9078!\nPlease mention you’re coming for the trivia! \nOR you can go ONLINE to: \nhttps://www.opentable.com/r/breaker-brewing-company-wilkes-barre\n*If making a reservation via OpenTable\, click on the ‘standard’ table and then write ‘trivia’ in the special request box. \nGREAT PRIZES and GIVEAWAYS!\n4 Rounds of Trivia and Name That Tune plus a fun handout round!\nTop teams make it to the final round for your chance at top prize of a Breaker gift card!\nTrivia registration begins at 6:00!\nRecommended TEAM SIZE is 4 players!\nPlease No more than 8!\nWe will start once everyone is signed up\, and trivia will last no later than 9pm! \nBRING YOUR OWN PEN FOR A BONUS POINT!!! \nBreaker Brewing is known for its delicious local craft beverages and fantastic pub style fare!\nSee you then!?\nCall now for a reservation!\n570-392-9078 \n*please arrive by 6:15pm to secure your table* \nCheck out the Breaker Brewing Company food and drink menu for offerings to enjoy during your visit. \nBreaker Brewing Company Menu
URL:https://www.breakerbrewingcompany.com/event/90s-name-that-tune-at-breaker-brewing-company/
LOCATION:Breaker Brewing Company\, Wilkes-Barre Twp
CATEGORIES:Events at Brewery in Wilkes-Barre
END:VEVENT
BEGIN:VEVENT
DTSTART;TZID=America/New_York:20240727T170000
DTEND;TZID=America/New_York:20240727T200000
DTSTAMP:20260419T115815
CREATED:20240516T182541Z
LAST-MODIFIED:20240516T182541Z
UID:33590-1722099600-1722110400@www.breakerbrewingcompany.com
SUMMARY:Paul Martin plays the patio
DESCRIPTION:Paul Martin plays the patio from 5pm-8pm\, at Breaker Brewing Company in Wilkes-Barre Township. \n***no cover\n***family friendly\n***free with purchase of food and beverage \n*Live music will be on the patio. In the event of inclement weather\, live music will move inside* \nReservations are available through OpenTable at https://www.opentable.com/r/breaker-brewing-company-wilkes-barre or give us a call at (570) 392-9078 and make sure to select the Wilkes-Barre location. \nTag your reservation with “close to live music” and we’ll reserve your table accordingly 🙂
URL:https://www.breakerbrewingcompany.com/event/paul-martin-plays-the-patio-2/
LOCATION:Breaker Brewing Company\, Wilkes-Barre Twp
CATEGORIES:Events at Brewery in Wilkes-Barre
ATTACH;FMTTYPE=image/jpeg:https://www.breakerbrewingcompany.com/wp-content/uploads/2024/05/441411515_854864740005439_5689859743884250167_n.jpg
END:VEVENT
BEGIN:VEVENT
DTSTART;TZID=America/New_York:20240731T183000
DTEND;TZID=America/New_York:20240731T203000
DTSTAMP:20260419T115815
CREATED:20240720T214223Z
LAST-MODIFIED:20240720T214305Z
UID:33809-1722450600-1722457800@www.breakerbrewingcompany.com
SUMMARY:Breaker BINGO   ⚪️
DESCRIPTION:Breaker BINGO ⚪️ \nEvery Wednesday is for winners at Breaker with our favorite game B I N G O! The balls roll at 6:30pm with your host Bingo Joe 570 calling the numbers. Giveaways with every single game and a $25 grand prize gift card that can be used at either of our locations. \n***family friendly\n***free to play with purchase of food and beverage \nBingo starts at 6:30pm. Reservations are available online through OpenTable or give us a call ☎️ at (570) 392-9078 and make sure to select the Wilkes-Barre location. Let us know you’re playing Bingo and we’ll reserve your table accordingly. \nHow to Make a Reservation on OpenTable:\n-visit OpenTable at https://www.opentable.com/r/breaker-brewing-company-wilkes-barre\n-under “make a reservation” select your party size\, date and time\n-enter your name\, phone number and email address\n-write “bingo” in the “add a special request” field\n-sign up for text updates\n-click the “complete reservation” button \nCheck out the Breaker Brewing Company food and drink menu for offerings to enjoy during your visit. \nBreaker Brewing Company Menu
URL:https://www.breakerbrewingcompany.com/event/breaker-bingo-%e2%9a%aa%ef%b8%8f-3/
LOCATION:Breaker Brewing Company\, Wilkes-Barre Twp
CATEGORIES:Events at Brewery in Wilkes-Barre
ATTACH;FMTTYPE=image/jpeg:https://www.breakerbrewingcompany.com/wp-content/uploads/2023/08/IMG_8228-scaled.jpg
END:VEVENT
END:VCALENDAR