BEGIN:VCALENDAR
VERSION:2.0
PRODID:-//Breaker Brewing Company - Brewing Unique and Unusual Beers - ECPv6.15.20//NONSGML v1.0//EN
CALSCALE:GREGORIAN
METHOD:PUBLISH
X-WR-CALNAME:Breaker Brewing Company - Brewing Unique and Unusual Beers
X-ORIGINAL-URL:https://www.breakerbrewingcompany.com
X-WR-CALDESC:Events for Breaker Brewing Company - Brewing Unique and Unusual Beers
REFRESH-INTERVAL;VALUE=DURATION:PT1H
X-Robots-Tag:noindex
X-PUBLISHED-TTL:PT1H
BEGIN:VTIMEZONE
TZID:America/New_York
BEGIN:DAYLIGHT
TZOFFSETFROM:-0500
TZOFFSETTO:-0400
TZNAME:EDT
DTSTART:20230312T070000
END:DAYLIGHT
BEGIN:STANDARD
TZOFFSETFROM:-0400
TZOFFSETTO:-0500
TZNAME:EST
DTSTART:20231105T060000
END:STANDARD
BEGIN:DAYLIGHT
TZOFFSETFROM:-0500
TZOFFSETTO:-0400
TZNAME:EDT
DTSTART:20240310T070000
END:DAYLIGHT
BEGIN:STANDARD
TZOFFSETFROM:-0400
TZOFFSETTO:-0500
TZNAME:EST
DTSTART:20241103T060000
END:STANDARD
BEGIN:DAYLIGHT
TZOFFSETFROM:-0500
TZOFFSETTO:-0400
TZNAME:EDT
DTSTART:20250309T070000
END:DAYLIGHT
BEGIN:STANDARD
TZOFFSETFROM:-0400
TZOFFSETTO:-0500
TZNAME:EST
DTSTART:20251102T060000
END:STANDARD
END:VTIMEZONE
BEGIN:VEVENT
DTSTART;TZID=America/New_York:20240210T160000
DTEND;TZID=America/New_York:20240210T180000
DTSTAMP:20260422T140559
CREATED:20240104T074207Z
LAST-MODIFIED:20240104T074207Z
UID:33237-1707580800-1707588000@www.breakerbrewingcompany.com
SUMMARY:Couples Valentine Charcuterie Workshop
DESCRIPTION:Join us at Breaker Brewing Company for a fun and tasty date night! We’re hosting a Couples Valentine Charcuterie Workshop. \nThis hands-on workshop will teach you basic techniques to create an assortment of cured meat\, artisanal cheeses\, fresh fruit\, and more while enjoying a glass of wine or craft beer from Breaker Brewing Company. \nEach couple will be provided everything needed to create your own size board for two to take home and enjoy. \nWhen: Saturday\, February 10th\, 2024\, 4pm \nWhere: Breaker Brewing Company\, 787 E. Northampton St.\, Wilkes-Barre Twp \nPrice: $125 per couple\, includes a glass of wine or 16oz beer provided by Breaker Brewing Company \n*ONLY 14 COUPLE SPOTS AVAILABLE* \nReserve your spot:\nCall/Text – 570-706-6090\nE-mail- saltandhoneybymarin@yahoo.com \nIf you’d like to stay for dinner with Breaker after the workshop\, please make your reservation via OpenTable. \nHow to Make a Reservation on OpenTable:\n-visit OpenTable at  https://www.opentable.com/r/breaker-brewing-company-wilkes-barre\n-under “make a reservation” select your party size\, date and time\n-enter your name\, phone number and email address\n-sign up for text updates\n-click the “complete reservation” button
URL:https://www.breakerbrewingcompany.com/event/couples-valentine-charcuterie-workshop/
LOCATION:Breaker Brewing Company\, Wilkes-Barre Twp
CATEGORIES:Events at Brewery in Wilkes-Barre
END:VEVENT
END:VCALENDAR