BEGIN:VCALENDAR
VERSION:2.0
PRODID:-//Breaker Brewing Company - Brewing Unique and Unusual Beers - ECPv6.15.20//NONSGML v1.0//EN
CALSCALE:GREGORIAN
METHOD:PUBLISH
X-ORIGINAL-URL:https://www.breakerbrewingcompany.com
X-WR-CALDESC:Events for Breaker Brewing Company - Brewing Unique and Unusual Beers
REFRESH-INTERVAL;VALUE=DURATION:PT1H
X-Robots-Tag:noindex
X-PUBLISHED-TTL:PT1H
BEGIN:VTIMEZONE
TZID:America/New_York
BEGIN:DAYLIGHT
TZOFFSETFROM:-0500
TZOFFSETTO:-0400
TZNAME:EDT
DTSTART:20230312T070000
END:DAYLIGHT
BEGIN:STANDARD
TZOFFSETFROM:-0400
TZOFFSETTO:-0500
TZNAME:EST
DTSTART:20231105T060000
END:STANDARD
BEGIN:DAYLIGHT
TZOFFSETFROM:-0500
TZOFFSETTO:-0400
TZNAME:EDT
DTSTART:20240310T070000
END:DAYLIGHT
BEGIN:STANDARD
TZOFFSETFROM:-0400
TZOFFSETTO:-0500
TZNAME:EST
DTSTART:20241103T060000
END:STANDARD
BEGIN:DAYLIGHT
TZOFFSETFROM:-0500
TZOFFSETTO:-0400
TZNAME:EDT
DTSTART:20250309T070000
END:DAYLIGHT
BEGIN:STANDARD
TZOFFSETFROM:-0400
TZOFFSETTO:-0500
TZNAME:EST
DTSTART:20251102T060000
END:STANDARD
END:VTIMEZONE
BEGIN:VEVENT
DTSTART;TZID=America/New_York:20240413T130000
DTEND;TZID=America/New_York:20240413T150000
DTSTAMP:20260419T120423
CREATED:20240301T191203Z
LAST-MODIFIED:20240301T191203Z
UID:33428-1713013200-1713020400@www.breakerbrewingcompany.com
SUMMARY:Pottery Experience at Breaker Brewing Company (Wheel Throwing)
DESCRIPTION:Wheel Throwing Pottery Party @Breaker Brewing Company \nExperience Pottery and spin clay with us in one of the best Breweries in Wilkes Barre! \nThis is how it works: \n\nExperience the thrill of moving clay on a potter’s wheel to make your own pottery at Breaker Brewing. Our artisan will move you through the creative process of turning a ball of clay into a useful piece of art from start-to-finish.\n After making your pottery on the wheel\, put your personality into the piece by painting\, carving\, or adding decal images.\nEnjoy delicious food and drinks available for purchase >>> See the menu here\nThe cost of your ticket includes your first drink (beer\, wine soda)\nAt the end of the evening\, pieces will be taken to our studio to get fired!\nFinished pieces will be delivered back to Breaker Brewing Company for pick up (please allow 2-4 weeks for processing).\nYour finished pottery will be microwave/ dishwasher/ food/ liquid safe!\n\nYour Experience Cost: $65.00 per person \n(Includes materials and process: clay experience\, paint/glazing\, and firing + your first pint* TBA)
URL:https://www.breakerbrewingcompany.com/event/pottery-experience-at-breaker-brewing-company-wheel-throwing/
LOCATION:Breaker Brewing Company\, Wilkes-Barre Twp
CATEGORIES:Events at Brewery in Wilkes-Barre
END:VEVENT
END:VCALENDAR