BEGIN:VCALENDAR
VERSION:2.0
PRODID:-//Breaker Brewing Company - Brewing Unique and Unusual Beers - ECPv6.15.20//NONSGML v1.0//EN
CALSCALE:GREGORIAN
METHOD:PUBLISH
X-ORIGINAL-URL:https://www.breakerbrewingcompany.com
X-WR-CALDESC:Events for Breaker Brewing Company - Brewing Unique and Unusual Beers
REFRESH-INTERVAL;VALUE=DURATION:PT1H
X-Robots-Tag:noindex
X-PUBLISHED-TTL:PT1H
BEGIN:VTIMEZONE
TZID:America/New_York
BEGIN:DAYLIGHT
TZOFFSETFROM:-0500
TZOFFSETTO:-0400
TZNAME:EDT
DTSTART:20230312T070000
END:DAYLIGHT
BEGIN:STANDARD
TZOFFSETFROM:-0400
TZOFFSETTO:-0500
TZNAME:EST
DTSTART:20231105T060000
END:STANDARD
BEGIN:DAYLIGHT
TZOFFSETFROM:-0500
TZOFFSETTO:-0400
TZNAME:EDT
DTSTART:20240310T070000
END:DAYLIGHT
BEGIN:STANDARD
TZOFFSETFROM:-0400
TZOFFSETTO:-0500
TZNAME:EST
DTSTART:20241103T060000
END:STANDARD
BEGIN:DAYLIGHT
TZOFFSETFROM:-0500
TZOFFSETTO:-0400
TZNAME:EDT
DTSTART:20250309T070000
END:DAYLIGHT
BEGIN:STANDARD
TZOFFSETFROM:-0400
TZOFFSETTO:-0500
TZNAME:EST
DTSTART:20251102T060000
END:STANDARD
END:VTIMEZONE
BEGIN:VEVENT
DTSTART;TZID=America/New_York:20240425T183000
DTEND;TZID=America/New_York:20240425T203000
DTSTAMP:20260419T120427
CREATED:20240416T213640Z
LAST-MODIFIED:20240416T213640Z
UID:33489-1714069800-1714077000@www.breakerbrewingcompany.com
SUMMARY:*SOLD OUT* Disney Name That Tune at Breaker Brewing Company!
DESCRIPTION:*SOLD OUT* as of 04/16. If you’re interested\, please call (570) 392-9078 during business hours to be placed on our trivia wait list and we’ll call you if there is availability. Please remember that we DO NOT sell tickets to this event. Beware of scammers. Thank you. \nDisney Name that Tune! \nThursday\, April 25th\, 6:30\nBreaker Brewing Company\n787 E. Northampton St.\nWilkes-Barre TWP PA \n***family friendly\n***free to play with purchase of food and beverage \n*Due to popular demand\, RESERVATIONS are REQUIRED and can be made by calling Breaker directly at (570)392-9078!\nPlease mention you’re coming for the trivia! \nOR you can go ONLINE to: \nhttps://www.opentable.com/r/breaker-brewing-company-wilkes-barre\n*If making a reservation via OpenTable\, click on the ‘standard’ table and then write ‘trivia’ in the special request box. \nGREAT PRIZES and GIVEAWAYS!\n4 Rounds of Trivia and Name That Tune plus a fun handout round!\nTop teams make it to the final round for your chance at top prize of a Breaker gift card!\nTrivia registration begins at 6:00!\nRecommended TEAM SIZE is 4 players!\nPlease No more than 8!\nWe will start once everyone is signed up\, and trivia will last no later than 9pm! \nBRING YOUR OWN PEN FOR A BONUS POINT!!! \nBreaker Brewing is known for its delicious local craft beverages and fantastic pub style fare!\nSee you then!?\nCall now for a reservation!\n570-392-9078 \n*please arrive by 6:15pm to secure your table* \nCheck out the Breaker Brewing Company food and drink menu for offerings to enjoy during your visit. \nBreaker Brewing Company Menu
URL:https://www.breakerbrewingcompany.com/event/sold-out-disney-name-that-tune-at-breaker-brewing-company/
LOCATION:Breaker Brewing Company\, Wilkes-Barre Twp
CATEGORIES:Events at Brewery in Wilkes-Barre
END:VEVENT
END:VCALENDAR