BEGIN:VCALENDAR
VERSION:2.0
PRODID:-//Breaker Brewing Company - Brewing Unique and Unusual Beers - ECPv6.15.20//NONSGML v1.0//EN
CALSCALE:GREGORIAN
METHOD:PUBLISH
X-ORIGINAL-URL:https://www.breakerbrewingcompany.com
X-WR-CALDESC:Events for Breaker Brewing Company - Brewing Unique and Unusual Beers
REFRESH-INTERVAL;VALUE=DURATION:PT1H
X-Robots-Tag:noindex
X-PUBLISHED-TTL:PT1H
BEGIN:VTIMEZONE
TZID:America/New_York
BEGIN:DAYLIGHT
TZOFFSETFROM:-0500
TZOFFSETTO:-0400
TZNAME:EDT
DTSTART:20230312T070000
END:DAYLIGHT
BEGIN:STANDARD
TZOFFSETFROM:-0400
TZOFFSETTO:-0500
TZNAME:EST
DTSTART:20231105T060000
END:STANDARD
BEGIN:DAYLIGHT
TZOFFSETFROM:-0500
TZOFFSETTO:-0400
TZNAME:EDT
DTSTART:20240310T070000
END:DAYLIGHT
BEGIN:STANDARD
TZOFFSETFROM:-0400
TZOFFSETTO:-0500
TZNAME:EST
DTSTART:20241103T060000
END:STANDARD
BEGIN:DAYLIGHT
TZOFFSETFROM:-0500
TZOFFSETTO:-0400
TZNAME:EDT
DTSTART:20250309T070000
END:DAYLIGHT
BEGIN:STANDARD
TZOFFSETFROM:-0400
TZOFFSETTO:-0500
TZNAME:EST
DTSTART:20251102T060000
END:STANDARD
END:VTIMEZONE
BEGIN:VEVENT
DTSTART;TZID=America/New_York:20240616T120000
DTEND;TZID=America/New_York:20240616T150000
DTSTAMP:20260419T120432
CREATED:20240606T185723Z
LAST-MODIFIED:20240606T185723Z
UID:33679-1718539200-1718550000@www.breakerbrewingcompany.com
SUMMARY:Father's Day Axe Throwing on the Patio
DESCRIPTION:Father’s Day is coming soon and we’ve got a fun day planned to celebrate dad! We’ll be open 12-7pm for your favorite food and drinks. \nJoin us for axe throwing on the patio with Alden Axe Co. from 12-3pm on Father’s Day\, Sunday\, June 16th\, while you enjoy some brunch\, lunch or dinner and beers with us. \nThe deets:\n Alden Axe Co. will be on site with their mobile axe throwing trailer from 12-3pm\n Pay as you throw with Alden Axe Co. Five throws for $5. Twelve throws for $10. *Credit card accepted\, but cash is preferred.*\n Must be wearing closed toe shoes to throw. No flip-flops\, sandals\, etc.\n Ages 12 and up\n first come\, first served\n instruction provided\n In case of inclement weather\, axe throwing will be moved inside the brewery \nWe’ll be open 12-7pm for food and drinks. Please make a reservation following the link below. \n https://www.opentable.com/r/breaker-brewing-company-wilkes-barre \nHow to Make a Reservation on OpenTable:\n-visit OpenTable at  https://www.opentable.com/r/breaker-brewing-company-wilkes-barre\n-under “make a reservation” select your party size\, date and time\n-enter your name\, phone number and email address\n-sign up for text updates\n-click the “complete reservation” button
URL:https://www.breakerbrewingcompany.com/event/fathers-day-axe-throwing-on-the-patio/
LOCATION:Breaker Brewing Company\, Wilkes-Barre Twp
CATEGORIES:Events at Brewery in Wilkes-Barre
END:VEVENT
END:VCALENDAR