BEGIN:VCALENDAR
VERSION:2.0
PRODID:-//Breaker Brewing Company - Brewing Unique and Unusual Beers - ECPv6.15.20//NONSGML v1.0//EN
CALSCALE:GREGORIAN
METHOD:PUBLISH
X-WR-CALNAME:Breaker Brewing Company - Brewing Unique and Unusual Beers
X-ORIGINAL-URL:https://www.breakerbrewingcompany.com
X-WR-CALDESC:Events for Breaker Brewing Company - Brewing Unique and Unusual Beers
REFRESH-INTERVAL;VALUE=DURATION:PT1H
X-Robots-Tag:noindex
X-PUBLISHED-TTL:PT1H
BEGIN:VTIMEZONE
TZID:America/New_York
BEGIN:DAYLIGHT
TZOFFSETFROM:-0500
TZOFFSETTO:-0400
TZNAME:EDT
DTSTART:20230312T070000
END:DAYLIGHT
BEGIN:STANDARD
TZOFFSETFROM:-0400
TZOFFSETTO:-0500
TZNAME:EST
DTSTART:20231105T060000
END:STANDARD
BEGIN:DAYLIGHT
TZOFFSETFROM:-0500
TZOFFSETTO:-0400
TZNAME:EDT
DTSTART:20240310T070000
END:DAYLIGHT
BEGIN:STANDARD
TZOFFSETFROM:-0400
TZOFFSETTO:-0500
TZNAME:EST
DTSTART:20241103T060000
END:STANDARD
BEGIN:DAYLIGHT
TZOFFSETFROM:-0500
TZOFFSETTO:-0400
TZNAME:EDT
DTSTART:20250309T070000
END:DAYLIGHT
BEGIN:STANDARD
TZOFFSETFROM:-0400
TZOFFSETTO:-0500
TZNAME:EST
DTSTART:20251102T060000
END:STANDARD
END:VTIMEZONE
BEGIN:VEVENT
DTSTART;TZID=America/New_York:20240914T170000
DTEND;TZID=America/New_York:20240914T180000
DTSTAMP:20260423T030257
CREATED:20240819T214939Z
LAST-MODIFIED:20240819T214939Z
UID:33886-1726333200-1726336800@www.breakerbrewingcompany.com
SUMMARY:☘️Halfway to St. Patrick's Day☘️
DESCRIPTION:☘️Craving some St. Patrick’s Day fun? ☘️ \nDon’t miss our halfway to St. Patrick’s Day party on Saturday\, September 14th\, as we welcome back the incredible bagpipers of the Ceol Mor Pipe & Drum Band starting at 5pm. \n Open 12-10pm\n Firkin tapping\, 12pm\n Ceol Mor Pipe & Drum Band\, 5pm \n***no cover\n***family friendly\n***free with purchase of food and beverage \n☘️☘️☘️☘️☘️☘️☘️☘️☘️☘️☘️☘️☘️☘️☘️☘️☘️☘️☘️☘️ \nReservations are available through OpenTable at https://www.opentable.com/r/breaker-brewing-company-wilkes-barre or give us a call at (570) 392-9078 and make sure to select the Wilkes-Barre location. \nHow to Make a Reservation on OpenTable:\n-visit OpenTable at  https://www.opentable.com/r/breaker-brewing-company-wilkes-barre\n-under “make a reservation” select your party size\, date and time\n-enter your name\, phone number and email address\n-sign up for text updates\n-click the “complete reservation” button \nCheck out the Breaker Brewing Company food and drink menu for offerings to enjoy during your visit. \nBreaker Brewing Company Menu
URL:https://www.breakerbrewingcompany.com/event/%e2%98%98%ef%b8%8fhalfway-to-st-patricks-day%e2%98%98%ef%b8%8f/
LOCATION:Breaker Brewing Company\, Wilkes-Barre Twp
CATEGORIES:Events at Brewery in Wilkes-Barre
END:VEVENT
END:VCALENDAR