BEGIN:VCALENDAR
VERSION:2.0
PRODID:-//Breaker Brewing Company - Brewing Unique and Unusual Beers - ECPv6.15.20//NONSGML v1.0//EN
CALSCALE:GREGORIAN
METHOD:PUBLISH
X-ORIGINAL-URL:https://www.breakerbrewingcompany.com
X-WR-CALDESC:Events for Breaker Brewing Company - Brewing Unique and Unusual Beers
REFRESH-INTERVAL;VALUE=DURATION:PT1H
X-Robots-Tag:noindex
X-PUBLISHED-TTL:PT1H
BEGIN:VTIMEZONE
TZID:America/New_York
BEGIN:DAYLIGHT
TZOFFSETFROM:-0500
TZOFFSETTO:-0400
TZNAME:EDT
DTSTART:20230312T070000
END:DAYLIGHT
BEGIN:STANDARD
TZOFFSETFROM:-0400
TZOFFSETTO:-0500
TZNAME:EST
DTSTART:20231105T060000
END:STANDARD
BEGIN:DAYLIGHT
TZOFFSETFROM:-0500
TZOFFSETTO:-0400
TZNAME:EDT
DTSTART:20240310T070000
END:DAYLIGHT
BEGIN:STANDARD
TZOFFSETFROM:-0400
TZOFFSETTO:-0500
TZNAME:EST
DTSTART:20241103T060000
END:STANDARD
BEGIN:DAYLIGHT
TZOFFSETFROM:-0500
TZOFFSETTO:-0400
TZNAME:EDT
DTSTART:20250309T070000
END:DAYLIGHT
BEGIN:STANDARD
TZOFFSETFROM:-0400
TZOFFSETTO:-0500
TZNAME:EST
DTSTART:20251102T060000
END:STANDARD
END:VTIMEZONE
BEGIN:VEVENT
DTSTART;TZID=America/New_York:20240921T110000
DTEND;TZID=America/New_York:20240921T220000
DTSTAMP:20260423T030717
CREATED:20240723T171042Z
LAST-MODIFIED:20240723T171042Z
UID:33812-1726916400-1726956000@www.breakerbrewingcompany.com
SUMMARY:Oktoberfest 2024: Outside under the BIG tent
DESCRIPTION:Breaker Brewing Company presents Oktoberfest 2024: Outside under the BIG tent  \nJoin us Saturday\, September 21st from 11am-10pm for an all day celebration with live music\, German food and beer specials\, fun and games\, craft vendors and more. \nNEPA’s own Schützengiggles Oompah Band traditional German/Bavarian brass oompah band will perform from 12pm-2pm and 3pm-5pm. Then the legendary Stanky & The Coalminers play from 6-9pm. \n This is an all-ages event.\n Rain or shine.\nMust be 21+ to drink with valid ID \n***The only reservations we will be accepting this date are for INDOOR taproom seating. OUTDOORS\, where all of the festivities are being held\, will be first come\, first served seating with no reservations being taken. Thank you.*** \nSCHEDULE OF EVENTS: (check back as this will be updated with more exciting events as we get closer to 09/21) \n11am open\n12-2pm Schützengiggles Oompah Band\n3-5pm Schützengiggles Oompah Band\n6-9pm Stanky & The Coalminers\n10pm close \nPARTICIPATING VENDORS: (check back as this will be updated with more awesome vendors as we get closer to 09/21) \nAlden Axe Co.\, axe throwing\nTrivia Master Brad\, emcee and fun facilitator\nBig Top Rentals\, tent rental \nWe look forward to raising a stein with you. Prost!!!
URL:https://www.breakerbrewingcompany.com/event/oktoberfest-2024-outside-under-the-big-tent/
LOCATION:Breaker Brewing Company\, Wilkes-Barre Twp
CATEGORIES:Events at Brewery in Wilkes-Barre
END:VEVENT
END:VCALENDAR