BEGIN:VCALENDAR
VERSION:2.0
PRODID:-//Breaker Brewing Company - Brewing Unique and Unusual Beers - ECPv6.15.20//NONSGML v1.0//EN
CALSCALE:GREGORIAN
METHOD:PUBLISH
X-ORIGINAL-URL:https://www.breakerbrewingcompany.com
X-WR-CALDESC:Events for Breaker Brewing Company - Brewing Unique and Unusual Beers
REFRESH-INTERVAL;VALUE=DURATION:PT1H
X-Robots-Tag:noindex
X-PUBLISHED-TTL:PT1H
BEGIN:VTIMEZONE
TZID:America/New_York
BEGIN:DAYLIGHT
TZOFFSETFROM:-0500
TZOFFSETTO:-0400
TZNAME:EDT
DTSTART:20230312T070000
END:DAYLIGHT
BEGIN:STANDARD
TZOFFSETFROM:-0400
TZOFFSETTO:-0500
TZNAME:EST
DTSTART:20231105T060000
END:STANDARD
BEGIN:DAYLIGHT
TZOFFSETFROM:-0500
TZOFFSETTO:-0400
TZNAME:EDT
DTSTART:20240310T070000
END:DAYLIGHT
BEGIN:STANDARD
TZOFFSETFROM:-0400
TZOFFSETTO:-0500
TZNAME:EST
DTSTART:20241103T060000
END:STANDARD
BEGIN:DAYLIGHT
TZOFFSETFROM:-0500
TZOFFSETTO:-0400
TZNAME:EDT
DTSTART:20250309T070000
END:DAYLIGHT
BEGIN:STANDARD
TZOFFSETFROM:-0400
TZOFFSETTO:-0500
TZNAME:EST
DTSTART:20251102T060000
END:STANDARD
END:VTIMEZONE
BEGIN:VEVENT
DTSTART;TZID=America/New_York:20240929T150000
DTEND;TZID=America/New_York:20240929T180000
DTSTAMP:20260423T030750
CREATED:20240924T190125Z
LAST-MODIFIED:20240924T190125Z
UID:33964-1727622000-1727632800@www.breakerbrewingcompany.com
SUMMARY:Holy Redeemer High School Cross Country Team Basket Raffle Fundraiser
DESCRIPTION:Our annual Holy Redeemer High School Cross Country Team Basket Raffle Fundraiser is in full swing here at the brewery.\n\nPurchase raffle tickets at our Wilkes-Barre Twp. location right up until the final drawing on Sunday\, September 29th.\n\nSo many awesome themed baskets to choose from.\n10 tickets for $1025 tickets for $20\n\nWe’ll gather at 3pm with local musician Just Joe performing from 3-6pm. Prize drawing will be at 6pm.
URL:https://www.breakerbrewingcompany.com/event/holy-redeemer-high-school-cross-country-team-basket-raffle-fundraiser/
LOCATION:Breaker Brewing Company\, Wilkes-Barre Twp
CATEGORIES:Events at Brewery in Wilkes-Barre
END:VEVENT
END:VCALENDAR