BEGIN:VCALENDAR
VERSION:2.0
PRODID:-//Breaker Brewing Company - Brewing Unique and Unusual Beers - ECPv6.15.20//NONSGML v1.0//EN
CALSCALE:GREGORIAN
METHOD:PUBLISH
X-ORIGINAL-URL:https://www.breakerbrewingcompany.com
X-WR-CALDESC:Events for Breaker Brewing Company - Brewing Unique and Unusual Beers
REFRESH-INTERVAL;VALUE=DURATION:PT1H
X-Robots-Tag:noindex
X-PUBLISHED-TTL:PT1H
BEGIN:VTIMEZONE
TZID:America/New_York
BEGIN:DAYLIGHT
TZOFFSETFROM:-0500
TZOFFSETTO:-0400
TZNAME:EDT
DTSTART:20230312T070000
END:DAYLIGHT
BEGIN:STANDARD
TZOFFSETFROM:-0400
TZOFFSETTO:-0500
TZNAME:EST
DTSTART:20231105T060000
END:STANDARD
BEGIN:DAYLIGHT
TZOFFSETFROM:-0500
TZOFFSETTO:-0400
TZNAME:EDT
DTSTART:20240310T070000
END:DAYLIGHT
BEGIN:STANDARD
TZOFFSETFROM:-0400
TZOFFSETTO:-0500
TZNAME:EST
DTSTART:20241103T060000
END:STANDARD
BEGIN:DAYLIGHT
TZOFFSETFROM:-0500
TZOFFSETTO:-0400
TZNAME:EDT
DTSTART:20250309T070000
END:DAYLIGHT
BEGIN:STANDARD
TZOFFSETFROM:-0400
TZOFFSETTO:-0500
TZNAME:EST
DTSTART:20251102T060000
END:STANDARD
END:VTIMEZONE
BEGIN:VEVENT
DTSTART;TZID=America/New_York:20241003T180000
DTEND;TZID=America/New_York:20241003T200000
DTSTAMP:20260423T030718
CREATED:20240924T190940Z
LAST-MODIFIED:20240924T233751Z
UID:33970-1727978400-1727985600@www.breakerbrewingcompany.com
SUMMARY:Crushed Glass Pumpkin Craft Class
DESCRIPTION:As seen made on WNEP Home & Backyard\, we are making crushed glass pumpkins. They’re beautiful\, elegant and a perfect addition to your fall decor. \nYou will arrange your glass on a pre-drawn canvas from a choice of colors\, embellishments and stem for the pumpkin. \nCost is $48 and included all supplies\, instruction and your first beer\, wine or soda. \nCheck out the Breaker Brewing Company food and drink menu for offerings to enjoy during your visit. \nhttps://tinyurl.com/breakerwbmenu \nReserve your spot with Angie of The Crooked Branch today via email or Venmo. Make sure to say “Breaker Brewing 10/03” \nEmail: Angieroback123@gmail.com\nVenmo: @Angie-Roback1975
URL:https://www.breakerbrewingcompany.com/event/crushed-glass-pumpkin-craft-class/
LOCATION:Breaker Brewing Company\, Wilkes-Barre Twp
CATEGORIES:Events at Brewery in Wilkes-Barre
END:VEVENT
END:VCALENDAR