BEGIN:VCALENDAR
VERSION:2.0
PRODID:-//Breaker Brewing Company - Brewing Unique and Unusual Beers - ECPv6.15.20//NONSGML v1.0//EN
CALSCALE:GREGORIAN
METHOD:PUBLISH
X-ORIGINAL-URL:https://www.breakerbrewingcompany.com
X-WR-CALDESC:Events for Breaker Brewing Company - Brewing Unique and Unusual Beers
REFRESH-INTERVAL;VALUE=DURATION:PT1H
X-Robots-Tag:noindex
X-PUBLISHED-TTL:PT1H
BEGIN:VTIMEZONE
TZID:America/New_York
BEGIN:DAYLIGHT
TZOFFSETFROM:-0500
TZOFFSETTO:-0400
TZNAME:EDT
DTSTART:20230312T070000
END:DAYLIGHT
BEGIN:STANDARD
TZOFFSETFROM:-0400
TZOFFSETTO:-0500
TZNAME:EST
DTSTART:20231105T060000
END:STANDARD
BEGIN:DAYLIGHT
TZOFFSETFROM:-0500
TZOFFSETTO:-0400
TZNAME:EDT
DTSTART:20240310T070000
END:DAYLIGHT
BEGIN:STANDARD
TZOFFSETFROM:-0400
TZOFFSETTO:-0500
TZNAME:EST
DTSTART:20241103T060000
END:STANDARD
BEGIN:DAYLIGHT
TZOFFSETFROM:-0500
TZOFFSETTO:-0400
TZNAME:EDT
DTSTART:20250309T070000
END:DAYLIGHT
BEGIN:STANDARD
TZOFFSETFROM:-0400
TZOFFSETTO:-0500
TZNAME:EST
DTSTART:20251102T060000
END:STANDARD
END:VTIMEZONE
BEGIN:VEVENT
DTSTART;TZID=America/New_York:20241114T080000
DTEND;TZID=America/New_York:20241114T170000
DTSTAMP:20260423T062137
CREATED:20241114T170114Z
LAST-MODIFIED:20241114T170114Z
UID:34145-1731571200-1731603600@www.breakerbrewingcompany.com
SUMMARY:Holiday Charcuterie Workshop with Salt & Honey by Marin
DESCRIPTION:Learn the art of creating a beautiful and tasty holiday charcuterie board\nEverything will be provided for you to create your own 10×10 board to take and enjoy!\nWhen: December 15th 2024\, 2PM\nWhere: 787 E. Northampton St\, W-B\nPrice: $65 per person – includes a glass of wine or 16oz beer (provided by Breaker Brewing)\n*Only 26 spots available\, pre-registration required*\nFor registration/purchase:\ncredit card (see link)\ncall/text: 570-706-6090 or\ne-mail: saltandhoneybymarin@yahoo.com
URL:https://www.breakerbrewingcompany.com/event/holiday-charcuterie-workshop-with-salt-honey-by-marin-2/
LOCATION:Breaker Brewing Company\, Wilkes-Barre Twp
CATEGORIES:Events at Brewery in Wilkes-Barre
END:VEVENT
END:VCALENDAR