BEGIN:VCALENDAR
VERSION:2.0
PRODID:-//Breaker Brewing Company - Brewing Unique and Unusual Beers - ECPv6.15.20//NONSGML v1.0//EN
CALSCALE:GREGORIAN
METHOD:PUBLISH
X-WR-CALNAME:Breaker Brewing Company - Brewing Unique and Unusual Beers
X-ORIGINAL-URL:https://www.breakerbrewingcompany.com
X-WR-CALDESC:Events for Breaker Brewing Company - Brewing Unique and Unusual Beers
REFRESH-INTERVAL;VALUE=DURATION:PT1H
X-Robots-Tag:noindex
X-PUBLISHED-TTL:PT1H
BEGIN:VTIMEZONE
TZID:America/New_York
BEGIN:DAYLIGHT
TZOFFSETFROM:-0500
TZOFFSETTO:-0400
TZNAME:EDT
DTSTART:20250309T070000
END:DAYLIGHT
BEGIN:STANDARD
TZOFFSETFROM:-0400
TZOFFSETTO:-0500
TZNAME:EST
DTSTART:20251102T060000
END:STANDARD
BEGIN:DAYLIGHT
TZOFFSETFROM:-0500
TZOFFSETTO:-0400
TZNAME:EDT
DTSTART:20260308T070000
END:DAYLIGHT
BEGIN:STANDARD
TZOFFSETFROM:-0400
TZOFFSETTO:-0500
TZNAME:EST
DTSTART:20261101T060000
END:STANDARD
BEGIN:DAYLIGHT
TZOFFSETFROM:-0500
TZOFFSETTO:-0400
TZNAME:EDT
DTSTART:20270314T070000
END:DAYLIGHT
BEGIN:STANDARD
TZOFFSETFROM:-0400
TZOFFSETTO:-0500
TZNAME:EST
DTSTART:20271107T060000
END:STANDARD
END:VTIMEZONE
BEGIN:VEVENT
DTSTART;TZID=America/New_York:20260611T180000
DTEND;TZID=America/New_York:20260611T200000
DTSTAMP:20260421T005915
CREATED:20260420T223754Z
LAST-MODIFIED:20260420T223754Z
UID:35711-1781200800-1781208000@www.breakerbrewingcompany.com
SUMMARY:Paint Your Pet on the Patio with Spirited Art Scranton
DESCRIPTION:We are bringing our super fun Pet Portrait class to the patio in June! \nOnce you are registered\, email a photo of your pet to spiritedartscranton@gmail.com and we will sketch it on a canvas. Please give us any instructions you have about how you want your pet drawn. We will help you paint your bestie at the event! \nCost is $55 per person. This includes all the paint supplies to create your masterpiece and a voucher for one beer\, glass of wine\, or soda. \n*The patio at Breaker Brewing Company is dog friendly and welcomes friendly\, quiet\, well behaved dogs on a leash at all times and under owner’s control.* \nCheck out the Breaker Brewing Company food and drink menu for offerings to enjoy during your visit. \nhttps://tinyurl.com/breakerwbmenu \nReserve your easel now. Spots are going quick! \n* All additional drinks and food are pay on your own. Thank you.*
URL:https://www.breakerbrewingcompany.com/event/paint-your-pet-on-the-patio-with-spirited-art-scranton-2/
LOCATION:Breaker Brewing Company\, Wilkes-Barre Twp
CATEGORIES:Events at Brewery in Wilkes-Barre
ATTACH;FMTTYPE=image/jpeg:https://www.breakerbrewingcompany.com/wp-content/uploads/2026/04/wb-paint-pets.jpg
END:VEVENT
END:VCALENDAR