BEGIN:VCALENDAR
VERSION:2.0
PRODID:-//Breaker Brewing Company - Brewing Unique and Unusual Beers - ECPv6.15.20//NONSGML v1.0//EN
CALSCALE:GREGORIAN
METHOD:PUBLISH
X-WR-CALNAME:Breaker Brewing Company - Brewing Unique and Unusual Beers
X-ORIGINAL-URL:https://www.breakerbrewingcompany.com
X-WR-CALDESC:Events for Breaker Brewing Company - Brewing Unique and Unusual Beers
REFRESH-INTERVAL;VALUE=DURATION:PT1H
X-Robots-Tag:noindex
X-PUBLISHED-TTL:PT1H
BEGIN:VTIMEZONE
TZID:America/New_York
BEGIN:DAYLIGHT
TZOFFSETFROM:-0500
TZOFFSETTO:-0400
TZNAME:EDT
DTSTART:20210314T070000
END:DAYLIGHT
BEGIN:STANDARD
TZOFFSETFROM:-0400
TZOFFSETTO:-0500
TZNAME:EST
DTSTART:20211107T060000
END:STANDARD
BEGIN:DAYLIGHT
TZOFFSETFROM:-0500
TZOFFSETTO:-0400
TZNAME:EDT
DTSTART:20220313T070000
END:DAYLIGHT
BEGIN:STANDARD
TZOFFSETFROM:-0400
TZOFFSETTO:-0500
TZNAME:EST
DTSTART:20221106T060000
END:STANDARD
BEGIN:DAYLIGHT
TZOFFSETFROM:-0500
TZOFFSETTO:-0400
TZNAME:EDT
DTSTART:20230312T070000
END:DAYLIGHT
BEGIN:STANDARD
TZOFFSETFROM:-0400
TZOFFSETTO:-0500
TZNAME:EST
DTSTART:20231105T060000
END:STANDARD
END:VTIMEZONE
BEGIN:VEVENT
DTSTART;TZID=America/New_York:20221202T190000
DTEND;TZID=America/New_York:20221202T220000
DTSTAMP:20260419T091101
CREATED:20221202T022218Z
LAST-MODIFIED:20221202T022218Z
UID:32296-1670007600-1670018400@www.breakerbrewingcompany.com
SUMMARY:Breaker Brewing Outpost - *LIVE MUSIC* With Paul Martin
DESCRIPTION:Join us Friday\, December 2nd\, from 7pm-10pm as we welcome back Paul Martin at Breaker Brewing Outpost in Archbald.\n*NO COVER*\nReservations are highly recommended. You can get them in now on OpenTable at https://www.opentable.com/r/breaker-brewing-outpost-archbald or give us a call at (570) 392-9078 and make sure to select the Archbald Outpost location.
URL:https://www.breakerbrewingcompany.com/event/breaker-brewing-outpost-live-music-with-paul-martin/
LOCATION:PA
CATEGORIES:Events at Outpost in Archbald
END:VEVENT
BEGIN:VEVENT
DTSTART;TZID=America/New_York:20221203T190000
DTEND;TZID=America/New_York:20221203T220000
DTSTAMP:20260419T091101
CREATED:20221202T022724Z
LAST-MODIFIED:20221202T023341Z
UID:32301-1670094000-1670104800@www.breakerbrewingcompany.com
SUMMARY:Breaker Brewing Outpost - *LIVE MUSIC* WITH  JAY LUKE
DESCRIPTION:Join us Saturday\, December 3rd\, from 7pm-10pm as we welcome back live music with Jay Luke at Breaker Brewing Outpost in Archbald.\n*NO COVER*\nReservations are highly recommended. You can get them in now on OpenTable at https://www.opentable.com/r/breaker-brewing-outpost-archbald or give us a call at (570) 392-9078 and make sure to select the Archbald Outpost location
URL:https://www.breakerbrewingcompany.com/event/breaker-brewing-outpost-live-music-with-jay-luke/
LOCATION:PA
CATEGORIES:Events at Outpost in Archbald
END:VEVENT
BEGIN:VEVENT
DTSTART;TZID=America/New_York:20221204T130000
DTEND;TZID=America/New_York:20221204T160000
DTSTAMP:20260419T091101
CREATED:20221202T023306Z
LAST-MODIFIED:20221202T023306Z
UID:32304-1670158800-1670169600@www.breakerbrewingcompany.com
SUMMARY:Breaker Brewing Outpost - *LIVE MUSIC* with Fiddle Tamers
DESCRIPTION:Join us Sunday\, December 4th\, from 1pm-4pm as we welcome the Fiddle Tamers at Breaker Brewing Outpost in Archbald.\n*NO COVER*\nReservations are highly recommended. You can get them in now on OpenTable at https://www.opentable.com/r/breaker-brewing-outpost-archbald or give us a call at (570) 392-9078 and make sure to select the Archbald Outpost location
URL:https://www.breakerbrewingcompany.com/event/breaker-brewing-outpost-live-music-with-fiddle-tamers/
LOCATION:PA
CATEGORIES:Events at Outpost in Archbald
END:VEVENT
BEGIN:VEVENT
DTSTART;TZID=America/New_York:20221207T060000
DTEND;TZID=America/New_York:20221207T210000
DTSTAMP:20260419T091101
CREATED:20221202T023748Z
LAST-MODIFIED:20221202T023748Z
UID:32307-1670392800-1670446800@www.breakerbrewingcompany.com
SUMMARY:Breaker Brewing Outpost - B I N G O !!!
DESCRIPTION:Every first and third Wednesday we yell B I N G O !!! with Bingo Willy at The Outpost with tons of giveaways and a $50 grand prize gift card that can be used at either of our locations.\nFree to play and family friendly. Get here early to claim your table.\nReservations are highly recommended. You can get them in now on OpenTable at https://www.opentable.com/r/breaker-brewing-outpost-archbald or give us a call at (570) 392-9078 and make sure to select the Archbald Outpost location.\nTag your reservation with “Bingo!” and we’ll reserve your table accordingly
URL:https://www.breakerbrewingcompany.com/event/breaker-brewing-outpost-b-i-n-g-o/
LOCATION:PA
CATEGORIES:Events at Outpost in Archbald
END:VEVENT
BEGIN:VEVENT
DTSTART;TZID=America/New_York:20221208T190000
DTEND;TZID=America/New_York:20221208T210000
DTSTAMP:20260419T091101
CREATED:20221202T024656Z
LAST-MODIFIED:20221202T031649Z
UID:32310-1670526000-1670533200@www.breakerbrewingcompany.com
SUMMARY:Breaker Brewing Outpost - Name That Tune "DISNEY CLASSICS EDITION"
DESCRIPTION:Event by Trivia Master Brad \nJoin us for Breaker Brewing NAME THAT TUNE!\nDISNEY CLASSICS EDITION!*\nThursday\, December 8th\, 7:00\nat BREAKER BREWING OUTPOST!\nGreat prizes and giveaways!\nAs always\, great craft beer and food!\nSpace is limited!\nReservations can be made by calling\n570-392-9078\nor on OpenTable\nhttps://www.opentable.com/r/breaker-brewing-outpost-archbald\nIt’s free to play!\nAnd so much fun!\nBRING A PEN FOR A BONUS POINT!\nTeams of no more than 6 people\,please!\n4 rounds and a Halftime Handout!\nTop teams will make the final round!\nSee you then!?!?\n*From “Snow White” to “Strange World”
URL:https://www.breakerbrewingcompany.com/event/breaker-brewing-outpost-disney-name-that-tune/
LOCATION:PA
CATEGORIES:Events at Outpost in Archbald
END:VEVENT
BEGIN:VEVENT
DTSTART;TZID=America/New_York:20221213T183000
DTEND;TZID=America/New_York:20221213T213000
DTSTAMP:20260419T091101
CREATED:20221202T025318Z
LAST-MODIFIED:20221202T025318Z
UID:32313-1670956200-1670967000@www.breakerbrewingcompany.com
SUMMARY:Breaker Brewing Outpost - Trivia Night "THE OFFICE"
DESCRIPTION:Event by Trivia Master Brad\n\nI Declare TRIVIA!!!!!!!!!\nthe office trivia night\nBreaker Brewing OUTPOST\nTuesday\, December 13th\, 7:00 pm\nIt’s free to play!\nAnd so much fun!\nGREAT PRIZES and GIVEAWAYS!\n3 Rounds of Trivia plus a handout round!\nTop teams make it to the final round for your chance at winning the top prize of a Breaker Brewing gift card\, good at either location.\nTrivia registration begins at 6:30!\nBring Your Own Pen for a Bonus Point!!\nTeams of 4 players encouraged!\nReservations are highly recommended!\nReserve your table by calling 570-392-9078 or on OpenTable https://www.opentable.com/r/breaker-brewing-outpost-archbald\nPlease mention you want a trivia table\, or mark your reservation with “Trivia Night”.\nTrivia starts PROMPTLY at 7 o’clock and will last no later than 9:30.\nBreaker Brewing is known for its local craft beer and fantastic pub style fare!\nSee you then!?
URL:https://www.breakerbrewingcompany.com/event/breaker-brewing-outpost-trivia-night-the-office/
LOCATION:PA
CATEGORIES:Events at Outpost in Archbald
END:VEVENT
BEGIN:VEVENT
DTSTART;TZID=America/New_York:20221214T180000
DTEND;TZID=America/New_York:20221214T203000
DTSTAMP:20260419T091101
CREATED:20221202T030439Z
LAST-MODIFIED:20221207T202234Z
UID:32316-1671040800-1671049800@www.breakerbrewingcompany.com
SUMMARY:Breaker Brewing Outpost - Paint Party - Winter Cardinal
DESCRIPTION:Event by Spirited Art Scranton \n\n\n\n\n\nClick here for Tickets!\n\n\n\n\nJoin us in front of the fireplace for this wintry painting! Something you can put out for the holidays and leave up through the winter. Bring a friend for a fun and relaxing night out! Grab a drink and an appetizer and we will take you step by step through “Winter Cardinal”.\nCost is $40 per person. This includes all the paint supplies to create your masterpiece and a voucher for a free 16oz beer\, glass of wine or soda for use that date.\nReserve your easel now. Spots are going quick!\n\n\n\n\n\n\n 
URL:https://www.breakerbrewingcompany.com/event/breaker-brewing-outpost-paint-party-winter-cardinal/
LOCATION:PA
CATEGORIES:Events at Outpost in Archbald
END:VEVENT
BEGIN:VEVENT
DTSTART;TZID=America/New_York:20221215T173000
DTEND;TZID=America/New_York:20221215T203000
DTSTAMP:20260419T091101
CREATED:20221202T031021Z
LAST-MODIFIED:20221202T031544Z
UID:32319-1671125400-1671136200@www.breakerbrewingcompany.com
SUMMARY:Breaker Brewing Outpost - Build Your Own Succulent Disco Ball Ornaments
DESCRIPTION:Event by Sterner’s Stems \n\n\nTickets checkout.square.site/buy/MJVSMKTSVNEIWOIQY2XLRP23\n\nBring your friends and enjoy a night out while you make these Succulent  Disco Balls with Melissa from Sterner’s Stems!\nChoose your time between 5:30-8:30\nYou’ll pick 2 Disco Ball  \, moss\, and succulents so your creation will be as unique as you are.\nCost: $35 per person. Includes two disco  balls. Great to keep one and give one as a gift.\nBreaker Brewing Outpost will have its full food and drink menu available all night while we create. Take a peek at the menu here…\n* additional disco balls will be available that evening for an added cost *
URL:https://www.breakerbrewingcompany.com/event/breaker-brewing-outpost-build-your-own-succulent-disco-ball-ornaments/
LOCATION:PA
CATEGORIES:Events at Outpost in Archbald
END:VEVENT
BEGIN:VEVENT
DTSTART;TZID=America/New_York:20221220T160000
DTEND;TZID=America/New_York:20221220T210000
DTSTAMP:20260419T091101
CREATED:20221202T032108Z
LAST-MODIFIED:20221202T032449Z
UID:32325-1671552000-1671570000@www.breakerbrewingcompany.com
SUMMARY:Breaker Brewing Outpost - Wrap Party Day 1
DESCRIPTION:Ya know what makes wrapping presents even more fun? A few pints and snacks in between with friends.\nCome WRAP with us!\nTuesday\, December 20\, 4pm-9pm\nWednesday\, December 21\, 4pm-9pm\nThursday\, December 22\, 4pm-9pm\nBring your gifts and wrap without fear of being found by the kiddos. Reserve a table for you and your friends. Have some beers\, cocktails\, wine and snacks while your fold and tape your hearts out.\nWe provide free wrapping paper and tape. Bring your gifts\, scissors\, bows and name tags.\nIf you’re lucky our Breaker Brewing Outpost elves may even help you tie a bow and praise your wrap job.
URL:https://www.breakerbrewingcompany.com/event/breaker-brewing-outpost-wrap-party/
LOCATION:PA
CATEGORIES:Events at Outpost in Archbald
END:VEVENT
BEGIN:VEVENT
DTSTART;TZID=America/New_York:20221221T160000
DTEND;TZID=America/New_York:20221221T210000
DTSTAMP:20260419T091101
CREATED:20221202T032309Z
LAST-MODIFIED:20221202T032437Z
UID:32329-1671638400-1671656400@www.breakerbrewingcompany.com
SUMMARY:Breaker Brewing Outpost – Wrap Party Day 2
DESCRIPTION:Ya know what makes wrapping presents even more fun? A few pints and snacks in between with friends.\nCome WRAP with us!\nTuesday\, December 20\, 4pm-9pm\nWednesday\, December 21\, 4pm-9pm\nThursday\, December 22\, 4pm-9pm\nBring your gifts and wrap without fear of being found by the kiddos. Reserve a table for you and your friends. Have some beers\, cocktails\, wine and snacks while your fold and tape your hearts out.\nWe provide free wrapping paper and tape. Bring your gifts\, scissors\, bows and name tags.\nIf you’re lucky our Breaker Brewing Outpost elves may even help you tie a bow and praise your wrap job.
URL:https://www.breakerbrewingcompany.com/event/breaker-brewing-outpost-wrap-party-2/
LOCATION:PA
CATEGORIES:Events at Outpost in Archbald
END:VEVENT
BEGIN:VEVENT
DTSTART;TZID=America/New_York:20221221T190000
DTEND;TZID=America/New_York:20221221T210000
DTSTAMP:20260419T091101
CREATED:20221202T033111Z
LAST-MODIFIED:20221202T033111Z
UID:32335-1671649200-1671656400@www.breakerbrewingcompany.com
SUMMARY:Breaker Brewing Outpost – B I N G O !!!
DESCRIPTION:Every first and third Wednesday we yell B I N G O !!! with Bingo Willy at The Outpost with tons of giveaways and a $50 grand prize gift card that can be used at either of our locations.\nFree to play and family friendly. Get here early to claim your table.\nReservations are highly recommended. You can get them in now on OpenTable at https://www.opentable.com/r/breaker-brewing-outpost-archbald or give us a call at (570) 392-9078 and make sure to select the Archbald Outpost location.\nTag your reservation with “Bingo!” and we’ll reserve your table accordingly
URL:https://www.breakerbrewingcompany.com/event/breaker-brewing-outpost-b-i-n-g-o-2/
LOCATION:PA
CATEGORIES:Events at Outpost in Archbald
END:VEVENT
BEGIN:VEVENT
DTSTART;TZID=America/New_York:20221222T160000
DTEND;TZID=America/New_York:20221222T210000
DTSTAMP:20260419T091101
CREATED:20221202T032421Z
LAST-MODIFIED:20221202T032421Z
UID:32331-1671724800-1671742800@www.breakerbrewingcompany.com
SUMMARY:Breaker Brewing Outpost – Wrap Party Day 3
DESCRIPTION:Ya know what makes wrapping presents even more fun? A few pints and snacks in between with friends.\nCome WRAP with us!\nTuesday\, December 20\, 4pm-9pm\nWednesday\, December 21\, 4pm-9pm\nThursday\, December 22\, 4pm-9pm\nBring your gifts and wrap without fear of being found by the kiddos. Reserve a table for you and your friends. Have some beers\, cocktails\, wine and snacks while your fold and tape your hearts out.\nWe provide free wrapping paper and tape. Bring your gifts\, scissors\, bows and name tags.\nIf you’re lucky our Breaker Brewing Outpost elves may even help you tie a bow and praise your wrap job.
URL:https://www.breakerbrewingcompany.com/event/breaker-brewing-outpost-wrap-party-day-3/
LOCATION:PA
CATEGORIES:Events at Outpost in Archbald
END:VEVENT
BEGIN:VEVENT
DTSTART;TZID=America/New_York:20221223T190000
DTEND;TZID=America/New_York:20221223T220000
DTSTAMP:20260419T091101
CREATED:20221207T201844Z
LAST-MODIFIED:20221207T201844Z
UID:32346-1671822000-1671832800@www.breakerbrewingcompany.com
SUMMARY:Breaker Brewing Outpost - Live Music - Holiday Songs with Bradley Phillip Parks
DESCRIPTION:Event by Bradley Phillip Parks and Breaker Brewing Outpost \n  \nJoin us Friday December 23rd\, from 7pm-10pm as we welcome back live music with Bradley Phillip Parks at Breaker Brewing Outpost in Archbald. \n*NO COVER* \nReservations are highly recommended. You can get them in now on OpenTable at\nhttps://www.opentable.com/r/breaker-brewing-outpost-archbald\nor give us a call at (570) 392-9078 and make sure to select the Archbald Outpost location. \nYou’ll have such a great time eating\, drinking\, and being MERRY while listening to some great acoustic tunes! Rejoice! \n 
URL:https://www.breakerbrewingcompany.com/event/breaker-brewing-outpost-live-music-holiday-songs-with-bradley-phillip-parks/
LOCATION:PA
CATEGORIES:Events at Outpost in Archbald
END:VEVENT
END:VCALENDAR