BEGIN:VCALENDAR
VERSION:2.0
PRODID:-//Breaker Brewing Company - Brewing Unique and Unusual Beers - ECPv6.15.20//NONSGML v1.0//EN
CALSCALE:GREGORIAN
METHOD:PUBLISH
X-WR-CALNAME:Breaker Brewing Company - Brewing Unique and Unusual Beers
X-ORIGINAL-URL:https://www.breakerbrewingcompany.com
X-WR-CALDESC:Events for Breaker Brewing Company - Brewing Unique and Unusual Beers
REFRESH-INTERVAL;VALUE=DURATION:PT1H
X-Robots-Tag:noindex
X-PUBLISHED-TTL:PT1H
BEGIN:VTIMEZONE
TZID:America/New_York
BEGIN:DAYLIGHT
TZOFFSETFROM:-0500
TZOFFSETTO:-0400
TZNAME:EDT
DTSTART:20220313T070000
END:DAYLIGHT
BEGIN:STANDARD
TZOFFSETFROM:-0400
TZOFFSETTO:-0500
TZNAME:EST
DTSTART:20221106T060000
END:STANDARD
BEGIN:DAYLIGHT
TZOFFSETFROM:-0500
TZOFFSETTO:-0400
TZNAME:EDT
DTSTART:20230312T070000
END:DAYLIGHT
BEGIN:STANDARD
TZOFFSETFROM:-0400
TZOFFSETTO:-0500
TZNAME:EST
DTSTART:20231105T060000
END:STANDARD
BEGIN:DAYLIGHT
TZOFFSETFROM:-0500
TZOFFSETTO:-0400
TZNAME:EDT
DTSTART:20240310T070000
END:DAYLIGHT
BEGIN:STANDARD
TZOFFSETFROM:-0400
TZOFFSETTO:-0500
TZNAME:EST
DTSTART:20241103T060000
END:STANDARD
END:VTIMEZONE
BEGIN:VEVENT
DTSTART;TZID=America/New_York:20231018T183000
DTEND;TZID=America/New_York:20231018T203000
DTSTAMP:20260420T155817
CREATED:20231016T123729Z
LAST-MODIFIED:20231016T123729Z
UID:33023-1697653800-1697661000@www.breakerbrewingcompany.com
SUMMARY:W I N G O !!! Wing Night & Bingo
DESCRIPTION:Every Wednesday at The Outpost is W I N G O !!! with wing night and Bingo at The Outpost. Tons of giveaways and a $25 grand prize gift card that can be used at either of our locations. \nWings are only $9.99 a dozen. Boneless chicken bites are only $8.99 a pound. Wing night prices are 4pm-9pm. \nBingo starts at 6:30pm with your host Jackpot Joel. Free to play and family friendly. Get here early to claim your table. \nReservations are available through OpenTable at https://www.opentable.com/r/breaker-brewing-outpost-archbald or give us a call at (570) 392-9078 and make sure to select the Archbald Outpost location. \nTag your reservation with “Bingo!” and we’ll reserve your table accordingly 🙂 \n#breakerbingo #wingo #jackpotjoel
URL:https://www.breakerbrewingcompany.com/event/w-i-n-g-o-wing-night-bingo/
LOCATION:Breaker Brewing Outpost\, 192 Wildcat Road\, Archbald\, PA\, 18403\, United States
CATEGORIES:Events at Outpost in Archbald
END:VEVENT
BEGIN:VEVENT
DTSTART;TZID=America/New_York:20231019T180000
DTEND;TZID=America/New_York:20231019T200000
DTSTAMP:20260420T155817
CREATED:20231018T050655Z
LAST-MODIFIED:20231018T050655Z
UID:33051-1697738400-1697745600@www.breakerbrewingcompany.com
SUMMARY:Crafts & Crafts: Halloween String Art
DESCRIPTION:Fall and Halloween String Art Class \n$45 due day of event in CASH. Boards already nailed. \nComplimentary drink included. Many colors to choose from. Choose board from photo above and select it on ticket link. \nTake home kits are available to class members for $20. Must PM me ahead of time to order those. I also bring a bunch of random extras boards for take home kits. \nCome enjoy some great food and drinks and make a beautiful board.
URL:https://www.breakerbrewingcompany.com/event/crafts-crafts-halloween-string-art/
LOCATION:Breaker Brewing Outpost\, 192 Wildcat Road\, Archbald\, PA\, 18403\, United States
CATEGORIES:Events at Outpost in Archbald
END:VEVENT
BEGIN:VEVENT
DTSTART;TZID=America/New_York:20231020T180000
DTEND;TZID=America/New_York:20231020T210000
DTSTAMP:20260420T155817
CREATED:20231018T051308Z
LAST-MODIFIED:20231018T051308Z
UID:33057-1697824800-1697835600@www.breakerbrewingcompany.com
SUMMARY:The BeeJerz live on stage at Breaker Brewing Outpost
DESCRIPTION:Join us Friday\, October 20th\, from 6pm-9pm for live music with The BeeJerz at Breaker Brewing Outpost in Archbald.\n\n***no cover\n***family friendly\n***free to play with purchase of food and beverage\n\nReservations are available through OpenTable at https://www.opentable.com/r/breaker-brewing-outpost-archbald or give us a call at (570) 392-9078 and make sure to select the Archbald Outpost location.
URL:https://www.breakerbrewingcompany.com/event/the-beejerz-live-on-stage-at-breaker-brewing-outpost/
LOCATION:Breaker Brewing Outpost\, 192 Wildcat Road\, Archbald\, PA\, 18403\, United States
CATEGORIES:Events at Outpost in Archbald
END:VEVENT
BEGIN:VEVENT
DTSTART;TZID=America/New_York:20231021T180000
DTEND;TZID=America/New_York:20231021T210000
DTSTAMP:20260420T155817
CREATED:20231018T051542Z
LAST-MODIFIED:20231018T051542Z
UID:33060-1697911200-1697922000@www.breakerbrewingcompany.com
SUMMARY:Antonio Andrade live on stage at Breaker Brewing Outpost
DESCRIPTION:Join us Saturday\, from 6pm-9pm\, as we welcome back our dear friend Antonio Andrade at Breaker Brewing Outpost in Archbald. Incredible unique originals and some fun covers. In 2022 the Central Pennsylvania Music Awards honored Antonio Andrade as “Best Male Solo Artist” for 2021. Congrats Antonio!\n\n***no cover\n***family friendly\n***free to play with purchase of food and beverage\n\nReservations are available through OpenTable at https://www.opentable.com/r/breaker-brewing-outpost-archbald or give us a call at (570) 392-9078 and make sure to select the Archbald Outpost location.
URL:https://www.breakerbrewingcompany.com/event/antonio-andrade-live-on-stage-at-breaker-brewing-outpost/
LOCATION:Breaker Brewing Outpost\, 192 Wildcat Road\, Archbald\, PA\, 18403\, United States
CATEGORIES:Events at Outpost in Archbald
END:VEVENT
BEGIN:VEVENT
DTSTART;TZID=America/New_York:20231024T190000
DTEND;TZID=America/New_York:20231024T210000
DTSTAMP:20260420T155817
CREATED:20231018T052754Z
LAST-MODIFIED:20231018T052754Z
UID:33071-1698174000-1698181200@www.breakerbrewingcompany.com
SUMMARY:Horror Movie Villains Trivia
DESCRIPTION:Horror Movie Villains Trivia\nBreaker Brewing OUTPOST\nTuesday October 24th\, 7:00\n\n***family friendly\n***free to play with purchase of food and drink\n\nGREAT PRIZES and GIVEAWAYS!\n4 Rounds of Trivia plus a handout round!\nTop teams make it to the final round for your chance at winning the top prize of a Breaker Brewing gift card\, good at either location.\nTrivia registration begins at 6:30!\nBring Your Own Pen for a Bonus Point!!\nTeams of 4 players encouraged!!!!\nPlease no teams over 8.\n\nReserve your table by calling 570-392-9078 or on OpenTable https://www.opentable.com/r/breaker-brewing-outpost-archbald\nPlease mention you want a trivia table\, or mark your reservation with “Trivia Night”.\n\nTrivia starts PROMPTLY at 7 o’clock and will last no later than 9:30.\nBreaker Brewing is known for its local craft beer and fantastic pub style fare!\nSee you then!
URL:https://www.breakerbrewingcompany.com/event/horror-movie-villains-trivia/
LOCATION:Breaker Brewing Outpost\, 192 Wildcat Road\, Archbald\, PA\, 18403\, United States
CATEGORIES:Events at Outpost in Archbald
END:VEVENT
BEGIN:VEVENT
DTSTART;TZID=America/New_York:20231025T183000
DTEND;TZID=America/New_York:20231025T203000
DTSTAMP:20260420T155817
CREATED:20231016T123911Z
LAST-MODIFIED:20231018T043648Z
UID:33026-1698258600-1698265800@www.breakerbrewingcompany.com
SUMMARY:W I N G O !!! Wing Night & Bingo
DESCRIPTION:Every Wednesday at The Outpost is W I N G O !!! with wing night and Bingo at The Outpost. Tons of giveaways and a $25 grand prize gift card that can be used at either of our locations. \nWings are only $9.99 a dozen. Boneless chicken bites are only $8.99 a pound. Wing night prices are 4pm-9pm. \nBingo starts at 6:30pm with your host Jackpot Joel. Free to play and family friendly. Get here early to claim your table. \nReservations are available through OpenTable at https://www.opentable.com/r/breaker-brewing-outpost-archbald or give us a call at (570) 392-9078 and make sure to select the Archbald Outpost location. \nTag your reservation with “Bingo!” and we’ll reserve your table accordingly 🙂 \n#breakerbingo #wingo #jackpotjoel
URL:https://www.breakerbrewingcompany.com/event/w-i-n-g-o-wing-night-bingo-2/
LOCATION:Breaker Brewing Outpost\, 192 Wildcat Road\, Archbald\, PA\, 18403\, United States
CATEGORIES:Events at Outpost in Archbald
ATTACH;FMTTYPE=image/jpeg:https://www.breakerbrewingcompany.com/wp-content/uploads/2023/08/IMG_8243-scaled.jpg
END:VEVENT
BEGIN:VEVENT
DTSTART;TZID=America/New_York:20231027T180000
DTEND;TZID=America/New_York:20231027T210000
DTSTAMP:20260420T155817
CREATED:20231018T052517Z
LAST-MODIFIED:20231018T052517Z
UID:33068-1698429600-1698440400@www.breakerbrewingcompany.com
SUMMARY:Budz & Roses live on stage at Breaker Brewing Outpost
DESCRIPTION:Join us Friday\, October 27th\, from 6pm-9pm as we debut Budz & Roses at Breaker Brewing Outpost in Archbald.\n\n***no cover\n***family friendly\n***free to play with purchase of food and beverage\n\nReservations are available through OpenTable at https://www.opentable.com/r/breaker-brewing-outpost-archbald or give us a call at (570) 392-9078 and make sure to select the Archbald Outpost location.
URL:https://www.breakerbrewingcompany.com/event/budz-roses-live-on-stage-at-breaker-brewing-outpost/
LOCATION:Breaker Brewing Outpost\, 192 Wildcat Road\, Archbald\, PA\, 18403\, United States
CATEGORIES:Events at Outpost in Archbald
END:VEVENT
BEGIN:VEVENT
DTSTART;TZID=America/New_York:20231028T180000
DTEND;TZID=America/New_York:20231028T210000
DTSTAMP:20260420T155817
CREATED:20231018T053035Z
LAST-MODIFIED:20231018T053035Z
UID:33074-1698516000-1698526800@www.breakerbrewingcompany.com
SUMMARY:3rd Annual Halloween Tribute Show with Bradley Phillip Parks
DESCRIPTION:Join us Saturday\, October 28th\, from 6-9pm for our 3rd annual Halloween Tribute Show with Bradley Phillip Parks and the music of Nirvana and Neil Diamond.\n\n***no cover\n***family friendly\n***free to play with purchase of food and beverage\n\nReservations are available through OpenTable at https://www.opentable.com/r/breaker-brewing-outpost-archbald\nor give us a call at (570) 392-9078 and make sure to select the Archbald Outpost location.
URL:https://www.breakerbrewingcompany.com/event/3rd-annual-halloween-tribute-show-with-bradley-phillip-parks/
LOCATION:Breaker Brewing Outpost\, 192 Wildcat Road\, Archbald\, PA\, 18403\, United States
CATEGORIES:Events at Outpost in Archbald
END:VEVENT
END:VCALENDAR