BEGIN:VCALENDAR
VERSION:2.0
PRODID:-//Breaker Brewing Company - Brewing Unique and Unusual Beers - ECPv6.15.20//NONSGML v1.0//EN
CALSCALE:GREGORIAN
METHOD:PUBLISH
X-ORIGINAL-URL:https://www.breakerbrewingcompany.com
X-WR-CALDESC:Events for Breaker Brewing Company - Brewing Unique and Unusual Beers
REFRESH-INTERVAL;VALUE=DURATION:PT1H
X-Robots-Tag:noindex
X-PUBLISHED-TTL:PT1H
BEGIN:VTIMEZONE
TZID:America/New_York
BEGIN:DAYLIGHT
TZOFFSETFROM:-0500
TZOFFSETTO:-0400
TZNAME:EDT
DTSTART:20210314T070000
END:DAYLIGHT
BEGIN:STANDARD
TZOFFSETFROM:-0400
TZOFFSETTO:-0500
TZNAME:EST
DTSTART:20211107T060000
END:STANDARD
BEGIN:DAYLIGHT
TZOFFSETFROM:-0500
TZOFFSETTO:-0400
TZNAME:EDT
DTSTART:20220313T070000
END:DAYLIGHT
BEGIN:STANDARD
TZOFFSETFROM:-0400
TZOFFSETTO:-0500
TZNAME:EST
DTSTART:20221106T060000
END:STANDARD
BEGIN:DAYLIGHT
TZOFFSETFROM:-0500
TZOFFSETTO:-0400
TZNAME:EDT
DTSTART:20230312T070000
END:DAYLIGHT
BEGIN:STANDARD
TZOFFSETFROM:-0400
TZOFFSETTO:-0500
TZNAME:EST
DTSTART:20231105T060000
END:STANDARD
END:VTIMEZONE
BEGIN:VEVENT
DTSTART;TZID=America/New_York:20221213T183000
DTEND;TZID=America/New_York:20221213T213000
DTSTAMP:20260419T105643
CREATED:20221202T025318Z
LAST-MODIFIED:20221202T025318Z
UID:32313-1670956200-1670967000@www.breakerbrewingcompany.com
SUMMARY:Breaker Brewing Outpost - Trivia Night "THE OFFICE"
DESCRIPTION:Event by Trivia Master Brad\n\nI Declare TRIVIA!!!!!!!!!\nthe office trivia night\nBreaker Brewing OUTPOST\nTuesday\, December 13th\, 7:00 pm\nIt’s free to play!\nAnd so much fun!\nGREAT PRIZES and GIVEAWAYS!\n3 Rounds of Trivia plus a handout round!\nTop teams make it to the final round for your chance at winning the top prize of a Breaker Brewing gift card\, good at either location.\nTrivia registration begins at 6:30!\nBring Your Own Pen for a Bonus Point!!\nTeams of 4 players encouraged!\nReservations are highly recommended!\nReserve your table by calling 570-392-9078 or on OpenTable https://www.opentable.com/r/breaker-brewing-outpost-archbald\nPlease mention you want a trivia table\, or mark your reservation with “Trivia Night”.\nTrivia starts PROMPTLY at 7 o’clock and will last no later than 9:30.\nBreaker Brewing is known for its local craft beer and fantastic pub style fare!\nSee you then!?
URL:https://www.breakerbrewingcompany.com/event/breaker-brewing-outpost-trivia-night-the-office/
LOCATION:PA
CATEGORIES:Events at Outpost in Archbald
END:VEVENT
END:VCALENDAR