BEGIN:VCALENDAR
VERSION:2.0
PRODID:-//Breaker Brewing Company - Brewing Unique and Unusual Beers - ECPv6.15.20//NONSGML v1.0//EN
CALSCALE:GREGORIAN
METHOD:PUBLISH
X-WR-CALNAME:Breaker Brewing Company - Brewing Unique and Unusual Beers
X-ORIGINAL-URL:https://www.breakerbrewingcompany.com
X-WR-CALDESC:Events for Breaker Brewing Company - Brewing Unique and Unusual Beers
REFRESH-INTERVAL;VALUE=DURATION:PT1H
X-Robots-Tag:noindex
X-PUBLISHED-TTL:PT1H
BEGIN:VTIMEZONE
TZID:America/New_York
BEGIN:DAYLIGHT
TZOFFSETFROM:-0500
TZOFFSETTO:-0400
TZNAME:EDT
DTSTART:20210314T070000
END:DAYLIGHT
BEGIN:STANDARD
TZOFFSETFROM:-0400
TZOFFSETTO:-0500
TZNAME:EST
DTSTART:20211107T060000
END:STANDARD
BEGIN:DAYLIGHT
TZOFFSETFROM:-0500
TZOFFSETTO:-0400
TZNAME:EDT
DTSTART:20220313T070000
END:DAYLIGHT
BEGIN:STANDARD
TZOFFSETFROM:-0400
TZOFFSETTO:-0500
TZNAME:EST
DTSTART:20221106T060000
END:STANDARD
BEGIN:DAYLIGHT
TZOFFSETFROM:-0500
TZOFFSETTO:-0400
TZNAME:EDT
DTSTART:20230312T070000
END:DAYLIGHT
BEGIN:STANDARD
TZOFFSETFROM:-0400
TZOFFSETTO:-0500
TZNAME:EST
DTSTART:20231105T060000
END:STANDARD
END:VTIMEZONE
BEGIN:VEVENT
DTSTART;TZID=America/New_York:20221214T180000
DTEND;TZID=America/New_York:20221214T203000
DTSTAMP:20260419T105505
CREATED:20221202T030439Z
LAST-MODIFIED:20221207T202234Z
UID:32316-1671040800-1671049800@www.breakerbrewingcompany.com
SUMMARY:Breaker Brewing Outpost - Paint Party - Winter Cardinal
DESCRIPTION:Event by Spirited Art Scranton \n\n\n\n\n\nClick here for Tickets!\n\n\n\n\nJoin us in front of the fireplace for this wintry painting! Something you can put out for the holidays and leave up through the winter. Bring a friend for a fun and relaxing night out! Grab a drink and an appetizer and we will take you step by step through “Winter Cardinal”.\nCost is $40 per person. This includes all the paint supplies to create your masterpiece and a voucher for a free 16oz beer\, glass of wine or soda for use that date.\nReserve your easel now. Spots are going quick!\n\n\n\n\n\n\n 
URL:https://www.breakerbrewingcompany.com/event/breaker-brewing-outpost-paint-party-winter-cardinal/
LOCATION:PA
CATEGORIES:Events at Outpost in Archbald
END:VEVENT
END:VCALENDAR