BEGIN:VCALENDAR
VERSION:2.0
PRODID:-//Breaker Brewing Company - Brewing Unique and Unusual Beers - ECPv6.15.20//NONSGML v1.0//EN
CALSCALE:GREGORIAN
METHOD:PUBLISH
X-WR-CALNAME:Breaker Brewing Company - Brewing Unique and Unusual Beers
X-ORIGINAL-URL:https://www.breakerbrewingcompany.com
X-WR-CALDESC:Events for Breaker Brewing Company - Brewing Unique and Unusual Beers
REFRESH-INTERVAL;VALUE=DURATION:PT1H
X-Robots-Tag:noindex
X-PUBLISHED-TTL:PT1H
BEGIN:VTIMEZONE
TZID:America/New_York
BEGIN:DAYLIGHT
TZOFFSETFROM:-0500
TZOFFSETTO:-0400
TZNAME:EDT
DTSTART:20210314T070000
END:DAYLIGHT
BEGIN:STANDARD
TZOFFSETFROM:-0400
TZOFFSETTO:-0500
TZNAME:EST
DTSTART:20211107T060000
END:STANDARD
BEGIN:DAYLIGHT
TZOFFSETFROM:-0500
TZOFFSETTO:-0400
TZNAME:EDT
DTSTART:20220313T070000
END:DAYLIGHT
BEGIN:STANDARD
TZOFFSETFROM:-0400
TZOFFSETTO:-0500
TZNAME:EST
DTSTART:20221106T060000
END:STANDARD
BEGIN:DAYLIGHT
TZOFFSETFROM:-0500
TZOFFSETTO:-0400
TZNAME:EDT
DTSTART:20230312T070000
END:DAYLIGHT
BEGIN:STANDARD
TZOFFSETFROM:-0400
TZOFFSETTO:-0500
TZNAME:EST
DTSTART:20231105T060000
END:STANDARD
END:VTIMEZONE
BEGIN:VEVENT
DTSTART;TZID=America/New_York:20221215T173000
DTEND;TZID=America/New_York:20221215T203000
DTSTAMP:20260419T105529
CREATED:20221202T031021Z
LAST-MODIFIED:20221202T031544Z
UID:32319-1671125400-1671136200@www.breakerbrewingcompany.com
SUMMARY:Breaker Brewing Outpost - Build Your Own Succulent Disco Ball Ornaments
DESCRIPTION:Event by Sterner’s Stems \n\n\nTickets checkout.square.site/buy/MJVSMKTSVNEIWOIQY2XLRP23\n\nBring your friends and enjoy a night out while you make these Succulent  Disco Balls with Melissa from Sterner’s Stems!\nChoose your time between 5:30-8:30\nYou’ll pick 2 Disco Ball  \, moss\, and succulents so your creation will be as unique as you are.\nCost: $35 per person. Includes two disco  balls. Great to keep one and give one as a gift.\nBreaker Brewing Outpost will have its full food and drink menu available all night while we create. Take a peek at the menu here…\n* additional disco balls will be available that evening for an added cost *
URL:https://www.breakerbrewingcompany.com/event/breaker-brewing-outpost-build-your-own-succulent-disco-ball-ornaments/
LOCATION:PA
CATEGORIES:Events at Outpost in Archbald
END:VEVENT
END:VCALENDAR