BEGIN:VCALENDAR
VERSION:2.0
PRODID:-//Breaker Brewing Company - Brewing Unique and Unusual Beers - ECPv6.15.20//NONSGML v1.0//EN
CALSCALE:GREGORIAN
METHOD:PUBLISH
X-WR-CALNAME:Breaker Brewing Company - Brewing Unique and Unusual Beers
X-ORIGINAL-URL:https://www.breakerbrewingcompany.com
X-WR-CALDESC:Events for Breaker Brewing Company - Brewing Unique and Unusual Beers
REFRESH-INTERVAL;VALUE=DURATION:PT1H
X-Robots-Tag:noindex
X-PUBLISHED-TTL:PT1H
BEGIN:VTIMEZONE
TZID:America/New_York
BEGIN:DAYLIGHT
TZOFFSETFROM:-0500
TZOFFSETTO:-0400
TZNAME:EDT
DTSTART:20220313T070000
END:DAYLIGHT
BEGIN:STANDARD
TZOFFSETFROM:-0400
TZOFFSETTO:-0500
TZNAME:EST
DTSTART:20221106T060000
END:STANDARD
BEGIN:DAYLIGHT
TZOFFSETFROM:-0500
TZOFFSETTO:-0400
TZNAME:EDT
DTSTART:20230312T070000
END:DAYLIGHT
BEGIN:STANDARD
TZOFFSETFROM:-0400
TZOFFSETTO:-0500
TZNAME:EST
DTSTART:20231105T060000
END:STANDARD
BEGIN:DAYLIGHT
TZOFFSETFROM:-0500
TZOFFSETTO:-0400
TZNAME:EDT
DTSTART:20240310T070000
END:DAYLIGHT
BEGIN:STANDARD
TZOFFSETFROM:-0400
TZOFFSETTO:-0500
TZNAME:EST
DTSTART:20241103T060000
END:STANDARD
END:VTIMEZONE
BEGIN:VEVENT
DTSTART;TZID=America/New_York:20230118T190000
DTEND;TZID=America/New_York:20230118T210000
DTSTAMP:20260419T102150
CREATED:20230104T015649Z
LAST-MODIFIED:20230104T015649Z
UID:32388-1674068400-1674075600@www.breakerbrewingcompany.com
SUMMARY:W I N G O !!! with Bingo & Breaker Brews
DESCRIPTION:Every 1st and 3rd Wednesday at The Outpost is W I N G O !!! with wing night and Bingo with Bingo Willy at The Outpost with tons of giveaways and a $50 grand prize gift card that can be used at either of our locations. \nWings are only $9.99 a dozen. Boneless chicken bites are only $8.99 a pound. \nFree to play and family friendly. Get here early to claim your table. \nReservations are highly recommended. You can get them in now on OpenTable at https://www.opentable.com/r/breaker-brewing-outpost-archbald or give us a call at (570) 392-9078 and make sure to select the Archbald Outpost location. \nTag your reservation with “Bingo!” and we’ll reserve your table accordingly 🙂 \n#breakerbingo
URL:https://www.breakerbrewingcompany.com/event/w-i-n-g-o-with-bingo-breaker-brews-2/
LOCATION:Breaker Brewing Outpost\, 192 Wildcat Road\, Archbald\, PA\, 18403\, United States
CATEGORIES:Events at Outpost in Archbald
END:VEVENT
END:VCALENDAR