BEGIN:VCALENDAR
VERSION:2.0
PRODID:-//Breaker Brewing Company - Brewing Unique and Unusual Beers - ECPv6.15.20//NONSGML v1.0//EN
CALSCALE:GREGORIAN
METHOD:PUBLISH
X-WR-CALNAME:Breaker Brewing Company - Brewing Unique and Unusual Beers
X-ORIGINAL-URL:https://www.breakerbrewingcompany.com
X-WR-CALDESC:Events for Breaker Brewing Company - Brewing Unique and Unusual Beers
REFRESH-INTERVAL;VALUE=DURATION:PT1H
X-Robots-Tag:noindex
X-PUBLISHED-TTL:PT1H
BEGIN:VTIMEZONE
TZID:America/New_York
BEGIN:DAYLIGHT
TZOFFSETFROM:-0500
TZOFFSETTO:-0400
TZNAME:EDT
DTSTART:20210314T070000
END:DAYLIGHT
BEGIN:STANDARD
TZOFFSETFROM:-0400
TZOFFSETTO:-0500
TZNAME:EST
DTSTART:20211107T060000
END:STANDARD
BEGIN:DAYLIGHT
TZOFFSETFROM:-0500
TZOFFSETTO:-0400
TZNAME:EDT
DTSTART:20220313T070000
END:DAYLIGHT
BEGIN:STANDARD
TZOFFSETFROM:-0400
TZOFFSETTO:-0500
TZNAME:EST
DTSTART:20221106T060000
END:STANDARD
BEGIN:DAYLIGHT
TZOFFSETFROM:-0500
TZOFFSETTO:-0400
TZNAME:EDT
DTSTART:20230312T070000
END:DAYLIGHT
BEGIN:STANDARD
TZOFFSETFROM:-0400
TZOFFSETTO:-0500
TZNAME:EST
DTSTART:20231105T060000
END:STANDARD
END:VTIMEZONE
BEGIN:VEVENT
DTSTART;TZID=America/New_York:20221206T183000
DTEND;TZID=America/New_York:20221206T210000
DTSTAMP:20260419T110249
CREATED:20221202T012156Z
LAST-MODIFIED:20221202T022342Z
UID:32252-1670351400-1670360400@www.breakerbrewingcompany.com
SUMMARY:Breaker Brewing Company - PIXAR Trivia Night
DESCRIPTION:Due to popular demand\, RESERVATIONS are REQUIRED and can be made by calling Breaker directly at (570)392-9078!\nPlease mention you’re coming for the trivia! or on Open Table:\nhttps://www.opentable.com/…/breaker-brewing-company…\nIf making a reservation via OpenTable\, click on the ‘standard’ table and then write ‘trivia’ in the special request box. \nGREAT PRIZES and GIVEAWAYS!\n3 Rounds of Trivia plus a fun handout round!\nTop teams make it to the final round for your chance at top prize of a Breaker gift card!\nTrivia registration begins at 6:30!\nTeam maximum of 6 players!!!!\nWe will start once everyone is signed up\, and trivia will last no later than 9pm!\nBRING YOUR OWN PEN FOR A BONUS POINT!!! \nBreaker Brewing is known for its local craft beverages and fantastic pub style fare!\nSee you then!?\nCall now for a reservation!\n570-392-9078
URL:https://www.breakerbrewingcompany.com/event/pixar-trivia-night-at-breaker-brewing-company/
LOCATION:PA
CATEGORIES:Events at Brewery in Wilkes-Barre
END:VEVENT
BEGIN:VEVENT
DTSTART;TZID=America/New_York:20221204T130000
DTEND;TZID=America/New_York:20221204T160000
DTSTAMP:20260419T110249
CREATED:20221202T023306Z
LAST-MODIFIED:20221202T023306Z
UID:32304-1670158800-1670169600@www.breakerbrewingcompany.com
SUMMARY:Breaker Brewing Outpost - *LIVE MUSIC* with Fiddle Tamers
DESCRIPTION:Join us Sunday\, December 4th\, from 1pm-4pm as we welcome the Fiddle Tamers at Breaker Brewing Outpost in Archbald.\n*NO COVER*\nReservations are highly recommended. You can get them in now on OpenTable at https://www.opentable.com/r/breaker-brewing-outpost-archbald or give us a call at (570) 392-9078 and make sure to select the Archbald Outpost location
URL:https://www.breakerbrewingcompany.com/event/breaker-brewing-outpost-live-music-with-fiddle-tamers/
LOCATION:PA
CATEGORIES:Events at Outpost in Archbald
END:VEVENT
BEGIN:VEVENT
DTSTART;TZID=America/New_York:20221203T190000
DTEND;TZID=America/New_York:20221203T220000
DTSTAMP:20260419T110249
CREATED:20221202T022724Z
LAST-MODIFIED:20221202T023341Z
UID:32301-1670094000-1670104800@www.breakerbrewingcompany.com
SUMMARY:Breaker Brewing Outpost - *LIVE MUSIC* WITH  JAY LUKE
DESCRIPTION:Join us Saturday\, December 3rd\, from 7pm-10pm as we welcome back live music with Jay Luke at Breaker Brewing Outpost in Archbald.\n*NO COVER*\nReservations are highly recommended. You can get them in now on OpenTable at https://www.opentable.com/r/breaker-brewing-outpost-archbald or give us a call at (570) 392-9078 and make sure to select the Archbald Outpost location
URL:https://www.breakerbrewingcompany.com/event/breaker-brewing-outpost-live-music-with-jay-luke/
LOCATION:PA
CATEGORIES:Events at Outpost in Archbald
END:VEVENT
BEGIN:VEVENT
DTSTART;TZID=America/New_York:20221202T190000
DTEND;TZID=America/New_York:20221202T220000
DTSTAMP:20260419T110249
CREATED:20221202T022218Z
LAST-MODIFIED:20221202T022218Z
UID:32296-1670007600-1670018400@www.breakerbrewingcompany.com
SUMMARY:Breaker Brewing Outpost - *LIVE MUSIC* With Paul Martin
DESCRIPTION:Join us Friday\, December 2nd\, from 7pm-10pm as we welcome back Paul Martin at Breaker Brewing Outpost in Archbald.\n*NO COVER*\nReservations are highly recommended. You can get them in now on OpenTable at https://www.opentable.com/r/breaker-brewing-outpost-archbald or give us a call at (570) 392-9078 and make sure to select the Archbald Outpost location.
URL:https://www.breakerbrewingcompany.com/event/breaker-brewing-outpost-live-music-with-paul-martin/
LOCATION:PA
CATEGORIES:Events at Outpost in Archbald
END:VEVENT
END:VCALENDAR